BEGIN:VCALENDAR
VERSION:2.0
PRODID:-//Catamount Outdoor Family Center - ECPv6.15.20//NONSGML v1.0//EN
CALSCALE:GREGORIAN
METHOD:PUBLISH
X-WR-CALNAME:Catamount Outdoor Family Center
X-ORIGINAL-URL:https://catamountoutdoor.org
X-WR-CALDESC:Events for Catamount Outdoor Family Center
REFRESH-INTERVAL;VALUE=DURATION:PT1H
X-Robots-Tag:noindex
X-PUBLISHED-TTL:PT1H
BEGIN:VTIMEZONE
TZID:America/New_York
BEGIN:DAYLIGHT
TZOFFSETFROM:-0500
TZOFFSETTO:-0400
TZNAME:EDT
DTSTART:20240310T070000
END:DAYLIGHT
BEGIN:STANDARD
TZOFFSETFROM:-0400
TZOFFSETTO:-0500
TZNAME:EST
DTSTART:20241103T060000
END:STANDARD
BEGIN:DAYLIGHT
TZOFFSETFROM:-0500
TZOFFSETTO:-0400
TZNAME:EDT
DTSTART:20250309T070000
END:DAYLIGHT
BEGIN:STANDARD
TZOFFSETFROM:-0400
TZOFFSETTO:-0500
TZNAME:EST
DTSTART:20251102T060000
END:STANDARD
BEGIN:DAYLIGHT
TZOFFSETFROM:-0500
TZOFFSETTO:-0400
TZNAME:EDT
DTSTART:20260308T070000
END:DAYLIGHT
BEGIN:STANDARD
TZOFFSETFROM:-0400
TZOFFSETTO:-0500
TZNAME:EST
DTSTART:20261101T060000
END:STANDARD
END:VTIMEZONE
BEGIN:VEVENT
DTSTART;TZID=America/New_York:20250219T183000
DTEND;TZID=America/New_York:20250219T200000
DTSTAMP:20260422T151616
CREATED:20241211T192056Z
LAST-MODIFIED:20250303T211123Z
UID:10000899-1739989800-1739995200@catamountoutdoor.org
SUMMARY:Magic Building- Public Input Meeting (3/3)
DESCRIPTION:Community Input on the New Catamount Outdoor Family Center Hub  \nThanks to a generous $126\,500 VOREC Planning Grant\, we are excited to move forward with the blueprint phase for a new ADA-accessible building that will house the Catamount Outdoor Family Center Trail Hub. This space will support camps\, programs\, events\, offices\, equipment\, and more! \nWe want to hear from you as we plan this new building for the Catamount community. Join us at one of our three upcoming public input meetings (virtual or in-person) to share your thoughts\, ideas\, and dreams for the space. If you’re unable to attend\, we still want to hear from you! \nPlease take a few minutes to complete our survey (survey closed) and be entered into our raffle! \nWe look forward to your feedback and involvement in shaping this exciting project and the Catamount OFC’s future! \nIn Person Meeting Location: Beckett/McGuire Meeting Room\, Williston Town Hall \nPUBLIC INPUT MEETING (Building) 3/3\nWednesday\, February 19\, 2025\nTime zone: America/New_York\nGoogle Meet joining info\nVideo call link: https://meet.google.com/drs-dixk-yxb\nOr dial: ‪(US) +1 505-738-1323‬ PIN: ‪166 793 505‬#\nMore phone numbers: https://tel.meet/drs-dixk-yxb?pin=8372900092828
URL:https://catamountoutdoor.org/events/magic-building-public-input-meeting-3-3/
LOCATION:Williston Town Hall\, 7900 Williston Rd\, Williston\, 05495\, United States
ATTACH;FMTTYPE=image/png:https://catamountoutdoor.org/wp-content/uploads/2024/12/1.png
ORGANIZER;CN="Catamount Outdoor Family Center":MAILTO:thehub@catamountoutdoor.org
END:VEVENT
BEGIN:VEVENT
DTSTART;TZID=America/New_York:20250123T183000
DTEND;TZID=America/New_York:20250123T200000
DTSTAMP:20260422T151616
CREATED:20241211T191456Z
LAST-MODIFIED:20250303T211109Z
UID:10000897-1737657000-1737662400@catamountoutdoor.org
SUMMARY:Magic Building- Public Input Meeting (1/3)
DESCRIPTION:Community Input on the New Catamount Outdoor Family Center Hub  \nThanks to a generous $126\,500 VOREC Planning Grant\, we are excited to move forward with the blueprint phase for a new ADA-accessible building that will house the Catamount Outdoor Family Center Trail Hub. This space will support camps\, programs\, events\, offices\, equipment\, and more! \nWe want to hear from you as we plan this new building for the Catamount community. Join us at one of our three upcoming public input meetings (virtual or in-person) to share your thoughts\, ideas\, and dreams for the space. If you’re unable to attend\, we still want to hear from you! \nPlease take a few minutes to complete our survey (survey closed) and be entered into our raffle! \nWe look forward to your feedback and involvement in shaping this exciting project and the Catamount OFC’s future! \nIn Person Meeting Location: Beckett/McGuire Meeting Room\, Williston Town Hall \nPUBLIC INPUT MEETING (Building) 1/3\nThursday\, January 23\, 2025 · 6:30 – 8:30pm\nTime zone: America/New_York\nGoogle Meet joining info\nVideo call link: https://meet.google.com/pdn-rwig-tuo\nOr dial: ‪(US) +1 727-835-5424‬ PIN: ‪221 414 887‬#\nMore phone numbers: https://tel.meet/pdn-rwig-tuo?pin=9631937505972 \n 
URL:https://catamountoutdoor.org/events/magic-building-public-input-meeting-1-3/
LOCATION:Williston Town Hall\, 7900 Williston Rd\, Williston\, 05495\, United States
ATTACH;FMTTYPE=image/png:https://catamountoutdoor.org/wp-content/uploads/2024/12/1.png
ORGANIZER;CN="Catamount Outdoor Family Center":MAILTO:thehub@catamountoutdoor.org
END:VEVENT
END:VCALENDAR