BEGIN:VCALENDAR
VERSION:2.0
PRODID:-//Catamount Outdoor Family Center - ECPv6.15.20//NONSGML v1.0//EN
CALSCALE:GREGORIAN
METHOD:PUBLISH
X-ORIGINAL-URL:https://catamountoutdoor.org
X-WR-CALDESC:Events for Catamount Outdoor Family Center
REFRESH-INTERVAL;VALUE=DURATION:PT1H
X-Robots-Tag:noindex
X-PUBLISHED-TTL:PT1H
BEGIN:VTIMEZONE
TZID:America/New_York
BEGIN:DAYLIGHT
TZOFFSETFROM:-0500
TZOFFSETTO:-0400
TZNAME:EDT
DTSTART:20220313T070000
END:DAYLIGHT
BEGIN:STANDARD
TZOFFSETFROM:-0400
TZOFFSETTO:-0500
TZNAME:EST
DTSTART:20221106T060000
END:STANDARD
BEGIN:DAYLIGHT
TZOFFSETFROM:-0500
TZOFFSETTO:-0400
TZNAME:EDT
DTSTART:20230312T070000
END:DAYLIGHT
BEGIN:STANDARD
TZOFFSETFROM:-0400
TZOFFSETTO:-0500
TZNAME:EST
DTSTART:20231105T060000
END:STANDARD
BEGIN:DAYLIGHT
TZOFFSETFROM:-0500
TZOFFSETTO:-0400
TZNAME:EDT
DTSTART:20240310T070000
END:DAYLIGHT
BEGIN:STANDARD
TZOFFSETFROM:-0400
TZOFFSETTO:-0500
TZNAME:EST
DTSTART:20241103T060000
END:STANDARD
END:VTIMEZONE
BEGIN:VEVENT
DTSTART;TZID=America/New_York:20230513T100000
DTEND;TZID=America/New_York:20230513T140000
DTSTAMP:20260423T043705
CREATED:20230413T190921Z
LAST-MODIFIED:20230510T175900Z
UID:10000166-1683972000-1683986400@catamountoutdoor.org
SUMMARY:Spring Launch Party
DESCRIPTION:Mud season is nearly over\, and we want to celebrate!\nJoin us at Catamount and celebrate the seasons start with Fellowship of the Wheel (FOTW) and the Vermont Mountain Bike Association (VMBA)! A whole host of our community partners and race sponsors will be there with goodies and treats\, stay tuned for a complete list. \nWe will start the day off with a kids’ self guided nature hunt and/or story walk. At 10:30am we will host bike limbo! \nAdults and families are invited to join us for beginner\, intermediate\, and advanced group rides throughout the day at 11am\, 12pm and 1pm. This will be a great way to learn the trails at Catamount or dust off the skills. \nJoin us at the vendor city in the main field\, where we’ll have demos\, swag\, and so much more for you to check out. Don’t forget to grab a bite to eat (optional donation) before or after your ride while supplies last. Food will be first come first serve starting at 11:30am. \nAre you a COFC race series participant? Pick up your racer packet at our hub!\nNot a series participant yet? Take advantage of 20% off the Weekly Race Series entry fee at this event! \nAre you a VMBA Member with FOTW and COFC added to your Membership? Be sure you stop by the VMBA tent to enter a free raffle with prizes from Cabot Cheese\, VMBA\, and COFC. \nIf you’re not a COFC Member\, you will need to purchase a day pass or add COFC to your VMBA Membership. VMBA Members can use the COFC Member Benefit for “[34] Free Fat Bike or MTB Day Pass*” \nMembership/Pass Prices: \n\nVMBA Individual Membership with FOTW – $60\nCatamount Outdoor Family Center add-on: $30\nCatamount Outdoor Family Center day pass:  $10.00/adults; $5/youth (5 and under are free)\n\nWhose going to be there? \n\nPrideRidesVT \nOGE \nSDR \nGMCX\nEthan Tapper Forestry Ride (12pm to 2pm)\nVT Adaptive \nBIVO \nWOW
URL:https://catamountoutdoor.org/events/spring-launch-party/
LOCATION:Catamount Outdoor Family Center\, 592 Governor Chittenden Road\, Williston\, VT\, United States
CATEGORIES:Family Event
ATTACH;FMTTYPE=image/png:https://catamountoutdoor.org/wp-content/uploads/2023/04/2-1.png
ORGANIZER;CN="Catamount Outdoor Family Center":MAILTO:thehub@catamountoutdoor.org
END:VEVENT
END:VCALENDAR