BEGIN:VCALENDAR
VERSION:2.0
PRODID:-//Catamount Outdoor Family Center - ECPv6.15.20//NONSGML v1.0//EN
CALSCALE:GREGORIAN
METHOD:PUBLISH
X-ORIGINAL-URL:https://catamountoutdoor.org
X-WR-CALDESC:Events for Catamount Outdoor Family Center
REFRESH-INTERVAL;VALUE=DURATION:PT1H
X-Robots-Tag:noindex
X-PUBLISHED-TTL:PT1H
BEGIN:VTIMEZONE
TZID:America/New_York
BEGIN:DAYLIGHT
TZOFFSETFROM:-0500
TZOFFSETTO:-0400
TZNAME:EDT
DTSTART:20250309T070000
END:DAYLIGHT
BEGIN:STANDARD
TZOFFSETFROM:-0400
TZOFFSETTO:-0500
TZNAME:EST
DTSTART:20251102T060000
END:STANDARD
BEGIN:DAYLIGHT
TZOFFSETFROM:-0500
TZOFFSETTO:-0400
TZNAME:EDT
DTSTART:20260308T070000
END:DAYLIGHT
BEGIN:STANDARD
TZOFFSETFROM:-0400
TZOFFSETTO:-0500
TZNAME:EST
DTSTART:20261101T060000
END:STANDARD
BEGIN:DAYLIGHT
TZOFFSETFROM:-0500
TZOFFSETTO:-0400
TZNAME:EDT
DTSTART:20270314T070000
END:DAYLIGHT
BEGIN:STANDARD
TZOFFSETFROM:-0400
TZOFFSETTO:-0500
TZNAME:EST
DTSTART:20271107T060000
END:STANDARD
END:VTIMEZONE
BEGIN:VEVENT
DTSTART;TZID=America/New_York:20260502T090000
DTEND;TZID=America/New_York:20260502T140000
DTSTAMP:20260422T210323
CREATED:20260212T203010Z
LAST-MODIFIED:20260318T184956Z
UID:10001827-1777712400-1777730400@catamountoutdoor.org
SUMMARY:Spring Gravel Ride!
DESCRIPTION:Spring Gravel Ride at The Catamount Outdoor Family Center \nGet ready to kick off the season with our second annual Spring Gravel Ride at the beautiful Catamount Outdoor Family Center! Whether you’re a seasoned gravel rider or just looking for a fun day out with friends\, we’ve got a route or trail for everyone. Choose between two scenic gravel loops—20 miles or 50 miles—each offering a unique experience through mostly unpaved roads. Our trail network is available for those who want to ride but are looking for shorter loops. \nEvent Details: \n\nDate: May 2\, 2026 (Rain date: May 3\, 2026)\nLocation: Catamount Outdoor Family Center\nLoop Options: 20 miles or 50 miles \n\nRegistration Fees: \n\n$35 per person (advance)\n$40 per person (day of event from 8am to 8:45am only)\n\nWhat’s Included with Your Registration? \n\nEntry for your chosen loop\nA raffle ticket for a chance to win exciting prizes\nA delicious lunch and drink to refuel after your ride- Vendors and Sponsors listed soon\nDay Membership to COFC trail network and Annual Meeting\n\nBest of all\, all proceeds from this event will benefit the Catamount Outdoor Family Center (COFC)\, a local 501(c)(3) nonprofit dedicated to providing outdoor recreation and educational programs for all ages. \nAfter the Ride: Enjoy great food\, drinks\, live music\, yard games\, and a chance to connect with fellow riders and supporters of COFC.
URL:https://catamountoutdoor.org/events/spring-gravel-ride/
LOCATION:Catamount Outdoor Family Center\, 592 Governor Chittenden Road\, Williston\, VT\, United States
ATTACH;FMTTYPE=image/png:https://catamountoutdoor.org/wp-content/uploads/2024/12/Screenshot-2025-04-11-at-12.10.36 PM.png
ORGANIZER;CN="Catamount Outdoor Family Center":MAILTO:thehub@catamountoutdoor.org
END:VEVENT
END:VCALENDAR