BEGIN:VCALENDAR
VERSION:2.0
PRODID:-//Catamount Outdoor Family Center - ECPv6.15.20//NONSGML v1.0//EN
CALSCALE:GREGORIAN
METHOD:PUBLISH
X-WR-CALNAME:Catamount Outdoor Family Center
X-ORIGINAL-URL:https://catamountoutdoor.org
X-WR-CALDESC:Events for Catamount Outdoor Family Center
REFRESH-INTERVAL;VALUE=DURATION:PT1H
X-Robots-Tag:noindex
X-PUBLISHED-TTL:PT1H
BEGIN:VTIMEZONE
TZID:America/New_York
BEGIN:DAYLIGHT
TZOFFSETFROM:-0500
TZOFFSETTO:-0400
TZNAME:EDT
DTSTART:20250309T070000
END:DAYLIGHT
BEGIN:STANDARD
TZOFFSETFROM:-0400
TZOFFSETTO:-0500
TZNAME:EST
DTSTART:20251102T060000
END:STANDARD
BEGIN:DAYLIGHT
TZOFFSETFROM:-0500
TZOFFSETTO:-0400
TZNAME:EDT
DTSTART:20260308T070000
END:DAYLIGHT
BEGIN:STANDARD
TZOFFSETFROM:-0400
TZOFFSETTO:-0500
TZNAME:EST
DTSTART:20261101T060000
END:STANDARD
BEGIN:DAYLIGHT
TZOFFSETFROM:-0500
TZOFFSETTO:-0400
TZNAME:EDT
DTSTART:20270314T070000
END:DAYLIGHT
BEGIN:STANDARD
TZOFFSETFROM:-0400
TZOFFSETTO:-0500
TZNAME:EST
DTSTART:20271107T060000
END:STANDARD
END:VTIMEZONE
BEGIN:VEVENT
DTSTART;TZID=America/New_York:20260303T153000
DTEND;TZID=America/New_York:20260303T173000
DTSTAMP:20260420T012257
CREATED:20260203T181440Z
LAST-MODIFIED:20260309T161923Z
UID:10001823-1772551800-1772559000@catamountoutdoor.org
SUMMARY:Mansfield Nordic Club (BKL) Visits
DESCRIPTION:Every Tuesday and Thursday from 3:30PM to 5:30PM\, the Mansfield Nordic Club’s Bill Koch League will be skiing at Catamount OFC. with up to 100 students. Please plan accordingly.
URL:https://catamountoutdoor.org/events/mansfield-nordic-club-bkl-visits/2026-03-03/
LOCATION:Catamount Outdoor Family Center\, 592 Governor Chittenden Road\, Williston\, VT\, United States
ATTACH;FMTTYPE=image/png:https://catamountoutdoor.org/wp-content/uploads/2026/02/Untitled-design-11.png
END:VEVENT
BEGIN:VEVENT
DTSTART;TZID=America/New_York:20260305T123000
DTEND;TZID=America/New_York:20260305T141500
DTSTAMP:20260420T012257
CREATED:20260220T183830Z
LAST-MODIFIED:20260220T183933Z
UID:10001829-1772713800-1772720100@catamountoutdoor.org
SUMMARY:Large School Group on Goose Hill
DESCRIPTION:Please note that we will have a large school group on Goose Hill today from 12:30pm to 2:15pm. \nThanks!
URL:https://catamountoutdoor.org/events/large-school-group-on-goose-hill-2/
LOCATION:Catamount Outdoor Family Center\, 592 Governor Chittenden Road\, Williston\, VT\, United States
ATTACH;FMTTYPE=image/jpeg:https://catamountoutdoor.org/wp-content/uploads/2023/11/4-IMG_1790.jpg
END:VEVENT
BEGIN:VEVENT
DTSTART;TZID=America/New_York:20260305T153000
DTEND;TZID=America/New_York:20260305T173000
DTSTAMP:20260420T012257
CREATED:20260203T181440Z
LAST-MODIFIED:20260309T161923Z
UID:10001824-1772724600-1772731800@catamountoutdoor.org
SUMMARY:Mansfield Nordic Club (BKL) Visits
DESCRIPTION:Every Tuesday and Thursday from 3:30PM to 5:30PM\, the Mansfield Nordic Club’s Bill Koch League will be skiing at Catamount OFC. with up to 100 students. Please plan accordingly.
URL:https://catamountoutdoor.org/events/mansfield-nordic-club-bkl-visits/2026-03-05/
LOCATION:Catamount Outdoor Family Center\, 592 Governor Chittenden Road\, Williston\, VT\, United States
ATTACH;FMTTYPE=image/png:https://catamountoutdoor.org/wp-content/uploads/2026/02/Untitled-design-11.png
END:VEVENT
BEGIN:VEVENT
DTSTART;TZID=America/New_York:20260305T180000
DTEND;TZID=America/New_York:20260305T200000
DTSTAMP:20260420T012257
CREATED:20260108T221114Z
LAST-MODIFIED:20260318T165759Z
UID:10001389-1772733600-1772740800@catamountoutdoor.org
SUMMARY:Social Thursdays - Guided Fat Bike Ride and Snowshoe Outings!
DESCRIPTION:Join us every Thursday evening this winter for a fun and social fat bike ride and snowshoe through the Catamount Community Forest with the Catamount Outdoor Family Center! \nStarting mid-December through mid-March (weather dependent)\, ride and stomp from 6:00 PM–8:00 PM with the Catamount Crew. Guided by experienced riders and tour guides\, often volunteer Board Members\, this is a great way to explore the trails\, meet other fat bikers or snowshoers\, learn more about Catamount OFC\, and stay active all winter long. \nAll are welcome! \nDetails: \n\nWhen: Thursdays\, 6:00 PM meet / 6:15 PM ride-out\nWhere: Catamount Outdoor Family Center parking lot Hub\nPace: Ride – InterMellow (social\, no-drop pace)\, Snowshoe – Easy\nLevel: Ride – Intermediate\, Snowshoe – Beginner\nTerrain: Ride – Intermediate\, Snowshoe – Beginner\nDuration: ~1.5–2 hours\nCost: Ride – Free for members; $15–$20 Day Membership for non-members (donations appreciated). Snowshoe – Free\, donations appreciated. Rentals available when the Guest Services Hub is open.\n\nWhat to Bring:Bike\, helmet\, headlamp or bike light (plus extra batteries)\, warm layers\, hand warmers\, water\, snowshoes\, and snacks. \nWhat if we cancel?Check back here\, on our Facebook and Instagram Stories\, or on the Facebook event listing for updates. We’ll post cancellations by 4:00 PM whenever possible. \nFeedback:Help us improve our community rides—share your thoughts after the event!
URL:https://catamountoutdoor.org/events/fat-thursdays-fat-bike-social-ride-6/2026-03-05/
LOCATION:Catamount Outdoor Family Center\, 592 Governor Chittenden Road\, Williston\, VT\, United States
CATEGORIES:bike,Hike/Walk
ATTACH;FMTTYPE=image/jpeg:https://catamountoutdoor.org/wp-content/uploads/2026/01/677BC717-B5C0-46FD-9CB3-755A6D59A231_1_105_c.jpeg
ORGANIZER;CN="Catamount Outdoor Family Center":MAILTO:thehub@catamountoutdoor.org
END:VEVENT
END:VCALENDAR