BEGIN:VCALENDAR
VERSION:2.0
PRODID:-//Catamount Outdoor Family Center - ECPv6.15.20//NONSGML v1.0//EN
CALSCALE:GREGORIAN
METHOD:PUBLISH
X-WR-CALNAME:Catamount Outdoor Family Center
X-ORIGINAL-URL:https://catamountoutdoor.org
X-WR-CALDESC:Events for Catamount Outdoor Family Center
REFRESH-INTERVAL;VALUE=DURATION:PT1H
X-Robots-Tag:noindex
X-PUBLISHED-TTL:PT1H
BEGIN:VTIMEZONE
TZID:America/New_York
BEGIN:DAYLIGHT
TZOFFSETFROM:-0500
TZOFFSETTO:-0400
TZNAME:EDT
DTSTART:20250309T070000
END:DAYLIGHT
BEGIN:STANDARD
TZOFFSETFROM:-0400
TZOFFSETTO:-0500
TZNAME:EST
DTSTART:20251102T060000
END:STANDARD
BEGIN:DAYLIGHT
TZOFFSETFROM:-0500
TZOFFSETTO:-0400
TZNAME:EDT
DTSTART:20260308T070000
END:DAYLIGHT
BEGIN:STANDARD
TZOFFSETFROM:-0400
TZOFFSETTO:-0500
TZNAME:EST
DTSTART:20261101T060000
END:STANDARD
BEGIN:DAYLIGHT
TZOFFSETFROM:-0500
TZOFFSETTO:-0400
TZNAME:EDT
DTSTART:20270314T070000
END:DAYLIGHT
BEGIN:STANDARD
TZOFFSETFROM:-0400
TZOFFSETTO:-0500
TZNAME:EST
DTSTART:20271107T060000
END:STANDARD
END:VTIMEZONE
BEGIN:VEVENT
DTSTART;TZID=America/New_York:20260224T153000
DTEND;TZID=America/New_York:20260224T173000
DTSTAMP:20260420T012206
CREATED:20260203T181440Z
LAST-MODIFIED:20260309T161923Z
UID:10001821-1771947000-1771954200@catamountoutdoor.org
SUMMARY:Mansfield Nordic Club (BKL) Visits
DESCRIPTION:Every Tuesday and Thursday from 3:30PM to 5:30PM\, the Mansfield Nordic Club’s Bill Koch League will be skiing at Catamount OFC. with up to 100 students. Please plan accordingly.
URL:https://catamountoutdoor.org/events/mansfield-nordic-club-bkl-visits/2026-02-24/
LOCATION:Catamount Outdoor Family Center\, 592 Governor Chittenden Road\, Williston\, VT\, United States
ATTACH;FMTTYPE=image/png:https://catamountoutdoor.org/wp-content/uploads/2026/02/Untitled-design-11.png
END:VEVENT
BEGIN:VEVENT
DTSTART;TZID=America/New_York:20260224T160000
DTEND;TZID=America/New_York:20260224T200000
DTSTAMP:20260420T012206
CREATED:20251020T194624Z
LAST-MODIFIED:20260309T161339Z
UID:10001480-1771948800-1771963200@catamountoutdoor.org
SUMMARY:Night Loop
DESCRIPTION:Experience the magic of winter nights at Catamount! Join us for Nordic skiing under the lights on our beautiful night loop\, open Tuesdays\, Wednesdays\, and Thursdays from 4:00 PM to 8:00 PM all winter long. \nWhether you’re out for a relaxed family ski\, some social laps with friends\, or a quick evening workout\, the lighted trails offer a welcoming winter adventure for all ages and abilities. \nBundle up\, bring your skis\, and enjoy the crisp night air and community spirit at Catamount! \nRental Hub will be closed for night ops.  \nCondition Dependent:If we’re not grooming (meaning there isn’t enough snow to pack)\, we will not be open for night operations. Thanks for understanding!
URL:https://catamountoutdoor.org/events/night-loop/2026-02-24/
LOCATION:Catamount Outdoor Family Center\, 592 Governor Chittenden Road\, Williston\, VT\, United States
ATTACH;FMTTYPE=image/jpeg:https://catamountoutdoor.org/wp-content/uploads/2025/10/C5562EE6-E511-4A86-9C8C-BE7D7BB11390_1_105_c-e1759514498519.jpeg
ORGANIZER;CN="Catamount Outdoor Family Center":MAILTO:thehub@catamountoutdoor.org
END:VEVENT
BEGIN:VEVENT
DTSTART;TZID=America/New_York:20260225T160000
DTEND;TZID=America/New_York:20260225T200000
DTSTAMP:20260420T012206
CREATED:20251020T194624Z
LAST-MODIFIED:20260309T161339Z
UID:10001481-1772035200-1772049600@catamountoutdoor.org
SUMMARY:Night Loop
DESCRIPTION:Experience the magic of winter nights at Catamount! Join us for Nordic skiing under the lights on our beautiful night loop\, open Tuesdays\, Wednesdays\, and Thursdays from 4:00 PM to 8:00 PM all winter long. \nWhether you’re out for a relaxed family ski\, some social laps with friends\, or a quick evening workout\, the lighted trails offer a welcoming winter adventure for all ages and abilities. \nBundle up\, bring your skis\, and enjoy the crisp night air and community spirit at Catamount! \nRental Hub will be closed for night ops.  \nCondition Dependent:If we’re not grooming (meaning there isn’t enough snow to pack)\, we will not be open for night operations. Thanks for understanding!
URL:https://catamountoutdoor.org/events/night-loop/2026-02-25/
LOCATION:Catamount Outdoor Family Center\, 592 Governor Chittenden Road\, Williston\, VT\, United States
ATTACH;FMTTYPE=image/jpeg:https://catamountoutdoor.org/wp-content/uploads/2025/10/C5562EE6-E511-4A86-9C8C-BE7D7BB11390_1_105_c-e1759514498519.jpeg
ORGANIZER;CN="Catamount Outdoor Family Center":MAILTO:thehub@catamountoutdoor.org
END:VEVENT
BEGIN:VEVENT
DTSTART;TZID=America/New_York:20260226T153000
DTEND;TZID=America/New_York:20260226T173000
DTSTAMP:20260420T012206
CREATED:20260203T181440Z
LAST-MODIFIED:20260309T161923Z
UID:10001822-1772119800-1772127000@catamountoutdoor.org
SUMMARY:Mansfield Nordic Club (BKL) Visits
DESCRIPTION:Every Tuesday and Thursday from 3:30PM to 5:30PM\, the Mansfield Nordic Club’s Bill Koch League will be skiing at Catamount OFC. with up to 100 students. Please plan accordingly.
URL:https://catamountoutdoor.org/events/mansfield-nordic-club-bkl-visits/2026-02-26/
LOCATION:Catamount Outdoor Family Center\, 592 Governor Chittenden Road\, Williston\, VT\, United States
ATTACH;FMTTYPE=image/png:https://catamountoutdoor.org/wp-content/uploads/2026/02/Untitled-design-11.png
END:VEVENT
BEGIN:VEVENT
DTSTART;TZID=America/New_York:20260226T160000
DTEND;TZID=America/New_York:20260226T200000
DTSTAMP:20260420T012206
CREATED:20251020T194624Z
LAST-MODIFIED:20260309T161339Z
UID:10001482-1772121600-1772136000@catamountoutdoor.org
SUMMARY:Night Loop
DESCRIPTION:Experience the magic of winter nights at Catamount! Join us for Nordic skiing under the lights on our beautiful night loop\, open Tuesdays\, Wednesdays\, and Thursdays from 4:00 PM to 8:00 PM all winter long. \nWhether you’re out for a relaxed family ski\, some social laps with friends\, or a quick evening workout\, the lighted trails offer a welcoming winter adventure for all ages and abilities. \nBundle up\, bring your skis\, and enjoy the crisp night air and community spirit at Catamount! \nRental Hub will be closed for night ops.  \nCondition Dependent:If we’re not grooming (meaning there isn’t enough snow to pack)\, we will not be open for night operations. Thanks for understanding!
URL:https://catamountoutdoor.org/events/night-loop/2026-02-26/
LOCATION:Catamount Outdoor Family Center\, 592 Governor Chittenden Road\, Williston\, VT\, United States
ATTACH;FMTTYPE=image/jpeg:https://catamountoutdoor.org/wp-content/uploads/2025/10/C5562EE6-E511-4A86-9C8C-BE7D7BB11390_1_105_c-e1759514498519.jpeg
ORGANIZER;CN="Catamount Outdoor Family Center":MAILTO:thehub@catamountoutdoor.org
END:VEVENT
BEGIN:VEVENT
DTSTART;TZID=America/New_York:20260226T180000
DTEND;TZID=America/New_York:20260226T200000
DTSTAMP:20260420T012206
CREATED:20260108T221114Z
LAST-MODIFIED:20260318T165759Z
UID:10001388-1772128800-1772136000@catamountoutdoor.org
SUMMARY:Social Thursdays - Guided Fat Bike Ride and Snowshoe Outings!
DESCRIPTION:Join us every Thursday evening this winter for a fun and social fat bike ride and snowshoe through the Catamount Community Forest with the Catamount Outdoor Family Center! \nStarting mid-December through mid-March (weather dependent)\, ride and stomp from 6:00 PM–8:00 PM with the Catamount Crew. Guided by experienced riders and tour guides\, often volunteer Board Members\, this is a great way to explore the trails\, meet other fat bikers or snowshoers\, learn more about Catamount OFC\, and stay active all winter long. \nAll are welcome! \nDetails: \n\nWhen: Thursdays\, 6:00 PM meet / 6:15 PM ride-out\nWhere: Catamount Outdoor Family Center parking lot Hub\nPace: Ride – InterMellow (social\, no-drop pace)\, Snowshoe – Easy\nLevel: Ride – Intermediate\, Snowshoe – Beginner\nTerrain: Ride – Intermediate\, Snowshoe – Beginner\nDuration: ~1.5–2 hours\nCost: Ride – Free for members; $15–$20 Day Membership for non-members (donations appreciated). Snowshoe – Free\, donations appreciated. Rentals available when the Guest Services Hub is open.\n\nWhat to Bring:Bike\, helmet\, headlamp or bike light (plus extra batteries)\, warm layers\, hand warmers\, water\, snowshoes\, and snacks. \nWhat if we cancel?Check back here\, on our Facebook and Instagram Stories\, or on the Facebook event listing for updates. We’ll post cancellations by 4:00 PM whenever possible. \nFeedback:Help us improve our community rides—share your thoughts after the event!
URL:https://catamountoutdoor.org/events/fat-thursdays-fat-bike-social-ride-6/2026-02-26/
LOCATION:Catamount Outdoor Family Center\, 592 Governor Chittenden Road\, Williston\, VT\, United States
CATEGORIES:bike,Hike/Walk
ATTACH;FMTTYPE=image/jpeg:https://catamountoutdoor.org/wp-content/uploads/2026/01/677BC717-B5C0-46FD-9CB3-755A6D59A231_1_105_c.jpeg
ORGANIZER;CN="Catamount Outdoor Family Center":MAILTO:thehub@catamountoutdoor.org
END:VEVENT
BEGIN:VEVENT
DTSTART;TZID=America/New_York:20260301T190000
DTEND;TZID=America/New_York:20260301T203000
DTSTAMP:20260420T012207
CREATED:20251017T202351Z
LAST-MODIFIED:20251029T144054Z
UID:10001375-1772391600-1772397000@catamountoutdoor.org
SUMMARY:Tour De Moon
DESCRIPTION:Experience the magic of the moonlit trails at Catamount Community Forest with the Catamount Outdoor Family Center! 🌕✨Join us for a guided evening outing on xc skis or snowshoes through the peaceful winter woods\, where the glow of the moon will light your way. This family-friendly adventure is the perfect chance to enjoy the quiet beauty of winter\, connect with your community\, and explore your local trails under the stars. \nDon’t miss this unforgettable night surrounded by nature\, friends\, and the sparkle of snow in the moonlight! \nDate: March 1\, 2026Activity: Tour De Moon Night Ski or Snowshoe!Time: 7:00 PM – 8:30 PMWhat to Bring: Headlamp\, water\, personal equipment\, warm layers\, hand warmers\, snacks as needed.Cost: $25/person (rentals not included but available on site starting at 6:45 PM)Pace: InterMellowRegistration: Starting December 1stQuestions: Email programs@catamountoutdoor.org \nNotes: \n\nLimited spots available — register early!\nPlease arrive 15 minutes early for check-in.\nYouth under 12 must be registered with an adult.
URL:https://catamountoutdoor.org/events/tour-de-moon-3/
LOCATION:Catamount Outdoor Family Center\, 592 Governor Chittenden Road\, Williston\, VT\, United States
ATTACH;FMTTYPE=image/png:https://catamountoutdoor.org/wp-content/uploads/2025/10/3-1.png
ORGANIZER;CN="Catamount Outdoor Family Center":MAILTO:thehub@catamountoutdoor.org
END:VEVENT
END:VCALENDAR