BEGIN:VCALENDAR
VERSION:2.0
PRODID:-//Catamount Outdoor Family Center - ECPv6.15.20//NONSGML v1.0//EN
CALSCALE:GREGORIAN
METHOD:PUBLISH
X-WR-CALNAME:Catamount Outdoor Family Center
X-ORIGINAL-URL:https://catamountoutdoor.org
X-WR-CALDESC:Events for Catamount Outdoor Family Center
REFRESH-INTERVAL;VALUE=DURATION:PT1H
X-Robots-Tag:noindex
X-PUBLISHED-TTL:PT1H
BEGIN:VTIMEZONE
TZID:America/New_York
BEGIN:DAYLIGHT
TZOFFSETFROM:-0500
TZOFFSETTO:-0400
TZNAME:EDT
DTSTART:20250309T070000
END:DAYLIGHT
BEGIN:STANDARD
TZOFFSETFROM:-0400
TZOFFSETTO:-0500
TZNAME:EST
DTSTART:20251102T060000
END:STANDARD
BEGIN:DAYLIGHT
TZOFFSETFROM:-0500
TZOFFSETTO:-0400
TZNAME:EDT
DTSTART:20260308T070000
END:DAYLIGHT
BEGIN:STANDARD
TZOFFSETFROM:-0400
TZOFFSETTO:-0500
TZNAME:EST
DTSTART:20261101T060000
END:STANDARD
BEGIN:DAYLIGHT
TZOFFSETFROM:-0500
TZOFFSETTO:-0400
TZNAME:EDT
DTSTART:20270314T070000
END:DAYLIGHT
BEGIN:STANDARD
TZOFFSETFROM:-0400
TZOFFSETTO:-0500
TZNAME:EST
DTSTART:20271107T060000
END:STANDARD
END:VTIMEZONE
BEGIN:VEVENT
DTSTART;TZID=America/New_York:20260127T160000
DTEND;TZID=America/New_York:20260127T200000
DTSTAMP:20260419T235437
CREATED:20251020T194624Z
LAST-MODIFIED:20260309T161339Z
UID:10001468-1769529600-1769544000@catamountoutdoor.org
SUMMARY:Night Loop
DESCRIPTION:Experience the magic of winter nights at Catamount! Join us for Nordic skiing under the lights on our beautiful night loop\, open Tuesdays\, Wednesdays\, and Thursdays from 4:00 PM to 8:00 PM all winter long. \nWhether you’re out for a relaxed family ski\, some social laps with friends\, or a quick evening workout\, the lighted trails offer a welcoming winter adventure for all ages and abilities. \nBundle up\, bring your skis\, and enjoy the crisp night air and community spirit at Catamount! \nRental Hub will be closed for night ops.  \nCondition Dependent:If we’re not grooming (meaning there isn’t enough snow to pack)\, we will not be open for night operations. Thanks for understanding!
URL:https://catamountoutdoor.org/events/night-loop/2026-01-27/
LOCATION:Catamount Outdoor Family Center\, 592 Governor Chittenden Road\, Williston\, VT\, United States
ATTACH;FMTTYPE=image/jpeg:https://catamountoutdoor.org/wp-content/uploads/2025/10/C5562EE6-E511-4A86-9C8C-BE7D7BB11390_1_105_c-e1759514498519.jpeg
ORGANIZER;CN="Catamount Outdoor Family Center":MAILTO:thehub@catamountoutdoor.org
END:VEVENT
BEGIN:VEVENT
DTSTART;TZID=America/New_York:20260128T160000
DTEND;TZID=America/New_York:20260128T200000
DTSTAMP:20260419T235437
CREATED:20251020T194624Z
LAST-MODIFIED:20260309T161339Z
UID:10001469-1769616000-1769630400@catamountoutdoor.org
SUMMARY:Night Loop
DESCRIPTION:Experience the magic of winter nights at Catamount! Join us for Nordic skiing under the lights on our beautiful night loop\, open Tuesdays\, Wednesdays\, and Thursdays from 4:00 PM to 8:00 PM all winter long. \nWhether you’re out for a relaxed family ski\, some social laps with friends\, or a quick evening workout\, the lighted trails offer a welcoming winter adventure for all ages and abilities. \nBundle up\, bring your skis\, and enjoy the crisp night air and community spirit at Catamount! \nRental Hub will be closed for night ops.  \nCondition Dependent:If we’re not grooming (meaning there isn’t enough snow to pack)\, we will not be open for night operations. Thanks for understanding!
URL:https://catamountoutdoor.org/events/night-loop/2026-01-28/
LOCATION:Catamount Outdoor Family Center\, 592 Governor Chittenden Road\, Williston\, VT\, United States
ATTACH;FMTTYPE=image/jpeg:https://catamountoutdoor.org/wp-content/uploads/2025/10/C5562EE6-E511-4A86-9C8C-BE7D7BB11390_1_105_c-e1759514498519.jpeg
ORGANIZER;CN="Catamount Outdoor Family Center":MAILTO:thehub@catamountoutdoor.org
END:VEVENT
BEGIN:VEVENT
DTSTART;TZID=America/New_York:20260129T120000
DTEND;TZID=America/New_York:20260129T170000
DTSTAMP:20260419T235437
CREATED:20260129T133008Z
LAST-MODIFIED:20260129T133008Z
UID:10001814-1769688000-1769706000@catamountoutdoor.org
SUMMARY:Nordic Ski Race (Private Event)
DESCRIPTION:Please note that we will be hosting the Burlington HS XC Ski race from 12pm to 4pm. The parking lot and roads will be much busier than a normal Tuesday so please plan accordingly. \nThe race will be on the south side (Goose Hill Side)\, the north side of the trail network is open for the public.
URL:https://catamountoutdoor.org/events/nordic-ski-race-private-event/
LOCATION:Catamount Outdoor Family Center\, 592 Governor Chittenden Road\, Williston\, VT\, United States
ATTACH;FMTTYPE=image/jpeg:https://catamountoutdoor.org/wp-content/uploads/2024/10/73E1F927-C63E-4C6F-B966-61F6826D6AE9.jpeg
ORGANIZER;CN="Catamount Outdoor Family Center":MAILTO:thehub@catamountoutdoor.org
END:VEVENT
BEGIN:VEVENT
DTSTART;TZID=America/New_York:20260129T160000
DTEND;TZID=America/New_York:20260129T200000
DTSTAMP:20260419T235437
CREATED:20251020T194624Z
LAST-MODIFIED:20260309T161339Z
UID:10001470-1769702400-1769716800@catamountoutdoor.org
SUMMARY:Night Loop
DESCRIPTION:Experience the magic of winter nights at Catamount! Join us for Nordic skiing under the lights on our beautiful night loop\, open Tuesdays\, Wednesdays\, and Thursdays from 4:00 PM to 8:00 PM all winter long. \nWhether you’re out for a relaxed family ski\, some social laps with friends\, or a quick evening workout\, the lighted trails offer a welcoming winter adventure for all ages and abilities. \nBundle up\, bring your skis\, and enjoy the crisp night air and community spirit at Catamount! \nRental Hub will be closed for night ops.  \nCondition Dependent:If we’re not grooming (meaning there isn’t enough snow to pack)\, we will not be open for night operations. Thanks for understanding!
URL:https://catamountoutdoor.org/events/night-loop/2026-01-29/
LOCATION:Catamount Outdoor Family Center\, 592 Governor Chittenden Road\, Williston\, VT\, United States
ATTACH;FMTTYPE=image/jpeg:https://catamountoutdoor.org/wp-content/uploads/2025/10/C5562EE6-E511-4A86-9C8C-BE7D7BB11390_1_105_c-e1759514498519.jpeg
ORGANIZER;CN="Catamount Outdoor Family Center":MAILTO:thehub@catamountoutdoor.org
END:VEVENT
BEGIN:VEVENT
DTSTART;TZID=America/New_York:20260129T180000
DTEND;TZID=America/New_York:20260129T200000
DTSTAMP:20260419T235437
CREATED:20260108T221114Z
LAST-MODIFIED:20260318T165759Z
UID:10001384-1769709600-1769716800@catamountoutdoor.org
SUMMARY:Social Thursdays - Guided Fat Bike Ride and Snowshoe Outings!
DESCRIPTION:Join us every Thursday evening this winter for a fun and social fat bike ride and snowshoe through the Catamount Community Forest with the Catamount Outdoor Family Center! \nStarting mid-December through mid-March (weather dependent)\, ride and stomp from 6:00 PM–8:00 PM with the Catamount Crew. Guided by experienced riders and tour guides\, often volunteer Board Members\, this is a great way to explore the trails\, meet other fat bikers or snowshoers\, learn more about Catamount OFC\, and stay active all winter long. \nAll are welcome! \nDetails: \n\nWhen: Thursdays\, 6:00 PM meet / 6:15 PM ride-out\nWhere: Catamount Outdoor Family Center parking lot Hub\nPace: Ride – InterMellow (social\, no-drop pace)\, Snowshoe – Easy\nLevel: Ride – Intermediate\, Snowshoe – Beginner\nTerrain: Ride – Intermediate\, Snowshoe – Beginner\nDuration: ~1.5–2 hours\nCost: Ride – Free for members; $15–$20 Day Membership for non-members (donations appreciated). Snowshoe – Free\, donations appreciated. Rentals available when the Guest Services Hub is open.\n\nWhat to Bring:Bike\, helmet\, headlamp or bike light (plus extra batteries)\, warm layers\, hand warmers\, water\, snowshoes\, and snacks. \nWhat if we cancel?Check back here\, on our Facebook and Instagram Stories\, or on the Facebook event listing for updates. We’ll post cancellations by 4:00 PM whenever possible. \nFeedback:Help us improve our community rides—share your thoughts after the event!
URL:https://catamountoutdoor.org/events/fat-thursdays-fat-bike-social-ride-6/2026-01-29/
LOCATION:Catamount Outdoor Family Center\, 592 Governor Chittenden Road\, Williston\, VT\, United States
CATEGORIES:bike,Hike/Walk
ATTACH;FMTTYPE=image/jpeg:https://catamountoutdoor.org/wp-content/uploads/2026/01/677BC717-B5C0-46FD-9CB3-755A6D59A231_1_105_c.jpeg
ORGANIZER;CN="Catamount Outdoor Family Center":MAILTO:thehub@catamountoutdoor.org
END:VEVENT
BEGIN:VEVENT
DTSTART;TZID=America/New_York:20260130T190000
DTEND;TZID=America/New_York:20260130T203000
DTSTAMP:20260419T235437
CREATED:20251017T202127Z
LAST-MODIFIED:20251029T144023Z
UID:10001374-1769799600-1769805000@catamountoutdoor.org
SUMMARY:Tour De (Blue) Moon
DESCRIPTION:Experience the magic of a Blue Moon night at Catamount Community Forest with the Catamount Outdoor Family Center! 🌕✨\nJoin us for a moonlit guided outing on xc skis or snowshoes through the peaceful winter woods\, where the rare second full moon of January\, a true Blue Moon\, will light your way. This family-friendly adventure is the perfect way to celebrate winter\, connect with your community\, and explore the wonder of your local trails under the brightest skies of the season. \nDon’t miss this unforgettable evening\, surrounded by nature\, friends\, and glowing snow beneath a once-in-a-blue-moon sky! \nDate: January 30\, 2026Activity: Blue Moon Night Ski or snowshoe!Time: 7:00 PM – 8:30 PMWhat to Bring: Headlamp\, water\, personal equipment\, warm layers\, hand warmers\, snacks as needed.Cost: $25/person (rentals not included but available on site starting at 6:45 PM)Pace: InterMellowRegistration: Starting December 1stQuestions: Email programs@catamountoutdoor.org \nNotes: \n\nLimited spots available — register early!\nPlease arrive 15 minutes early for check-in.\nYouth under 12 must be registered with an adult.\n\nWe can’t wait to start 2026 with you on the trails! \nFuture Tour De Moon options: March 1st
URL:https://catamountoutdoor.org/events/tour-de-blue-moon/
LOCATION:Catamount Outdoor Family Center\, 592 Governor Chittenden Road\, Williston\, VT\, United States
ATTACH;FMTTYPE=image/png:https://catamountoutdoor.org/wp-content/uploads/2025/10/2-1.png
ORGANIZER;CN="Catamount Outdoor Family Center":MAILTO:thehub@catamountoutdoor.org
END:VEVENT
BEGIN:VEVENT
DTSTART;TZID=America/New_York:20260131T090000
DTEND;TZID=America/New_York:20260131T120000
DTSTAMP:20260419T235437
CREATED:20251021T184507Z
LAST-MODIFIED:20251110T171949Z
UID:10001504-1769850000-1769860800@catamountoutdoor.org
SUMMARY:CTA Ski Cubs
DESCRIPTION:Catamount Trail Association’s Ski Cubs program will be at Catamount OFC on Saturdays from 9am to 12pm starting on January 10th and ending on February 14th.
URL:https://catamountoutdoor.org/events/cta-ski-cubs-2/2026-01-31/
LOCATION:Catamount Outdoor Family Center\, 592 Governor Chittenden Road\, Williston\, VT\, United States
ATTACH;FMTTYPE=image/png:https://catamountoutdoor.org/wp-content/uploads/2025/10/Screenshot-2025-10-21-at-12.14.07-PM.png
END:VEVENT
END:VCALENDAR