BEGIN:VCALENDAR
VERSION:2.0
PRODID:-//Catamount Outdoor Family Center - ECPv6.15.20//NONSGML v1.0//EN
CALSCALE:GREGORIAN
METHOD:PUBLISH
X-WR-CALNAME:Catamount Outdoor Family Center
X-ORIGINAL-URL:https://catamountoutdoor.org
X-WR-CALDESC:Events for Catamount Outdoor Family Center
REFRESH-INTERVAL;VALUE=DURATION:PT1H
X-Robots-Tag:noindex
X-PUBLISHED-TTL:PT1H
BEGIN:VTIMEZONE
TZID:America/New_York
BEGIN:DAYLIGHT
TZOFFSETFROM:-0500
TZOFFSETTO:-0400
TZNAME:EDT
DTSTART:20240310T070000
END:DAYLIGHT
BEGIN:STANDARD
TZOFFSETFROM:-0400
TZOFFSETTO:-0500
TZNAME:EST
DTSTART:20241103T060000
END:STANDARD
BEGIN:DAYLIGHT
TZOFFSETFROM:-0500
TZOFFSETTO:-0400
TZNAME:EDT
DTSTART:20250309T070000
END:DAYLIGHT
BEGIN:STANDARD
TZOFFSETFROM:-0400
TZOFFSETTO:-0500
TZNAME:EST
DTSTART:20251102T060000
END:STANDARD
BEGIN:DAYLIGHT
TZOFFSETFROM:-0500
TZOFFSETTO:-0400
TZNAME:EDT
DTSTART:20260308T070000
END:DAYLIGHT
BEGIN:STANDARD
TZOFFSETFROM:-0400
TZOFFSETTO:-0500
TZNAME:EST
DTSTART:20261101T060000
END:STANDARD
BEGIN:DAYLIGHT
TZOFFSETFROM:-0500
TZOFFSETTO:-0400
TZNAME:EDT
DTSTART:20270314T070000
END:DAYLIGHT
BEGIN:STANDARD
TZOFFSETFROM:-0400
TZOFFSETTO:-0500
TZNAME:EST
DTSTART:20271107T060000
END:STANDARD
END:VTIMEZONE
BEGIN:VEVENT
DTSTART;TZID=America/New_York:20251230T160000
DTEND;TZID=America/New_York:20251230T200000
DTSTAMP:20260420T011710
CREATED:20251020T194624Z
LAST-MODIFIED:20260309T161339Z
UID:10001456-1767110400-1767124800@catamountoutdoor.org
SUMMARY:Night Loop
DESCRIPTION:Experience the magic of winter nights at Catamount! Join us for Nordic skiing under the lights on our beautiful night loop\, open Tuesdays\, Wednesdays\, and Thursdays from 4:00 PM to 8:00 PM all winter long. \nWhether you’re out for a relaxed family ski\, some social laps with friends\, or a quick evening workout\, the lighted trails offer a welcoming winter adventure for all ages and abilities. \nBundle up\, bring your skis\, and enjoy the crisp night air and community spirit at Catamount! \nRental Hub will be closed for night ops.  \nCondition Dependent:If we’re not grooming (meaning there isn’t enough snow to pack)\, we will not be open for night operations. Thanks for understanding!
URL:https://catamountoutdoor.org/events/night-loop/2025-12-30/
LOCATION:Catamount Outdoor Family Center\, 592 Governor Chittenden Road\, Williston\, VT\, United States
ATTACH;FMTTYPE=image/jpeg:https://catamountoutdoor.org/wp-content/uploads/2025/10/C5562EE6-E511-4A86-9C8C-BE7D7BB11390_1_105_c-e1759514498519.jpeg
ORGANIZER;CN="Catamount Outdoor Family Center":MAILTO:thehub@catamountoutdoor.org
END:VEVENT
BEGIN:VEVENT
DTSTART;TZID=America/New_York:20251231T160000
DTEND;TZID=America/New_York:20251231T200000
DTSTAMP:20260420T011710
CREATED:20251020T194624Z
LAST-MODIFIED:20260309T161339Z
UID:10001457-1767196800-1767211200@catamountoutdoor.org
SUMMARY:Night Loop
DESCRIPTION:Experience the magic of winter nights at Catamount! Join us for Nordic skiing under the lights on our beautiful night loop\, open Tuesdays\, Wednesdays\, and Thursdays from 4:00 PM to 8:00 PM all winter long. \nWhether you’re out for a relaxed family ski\, some social laps with friends\, or a quick evening workout\, the lighted trails offer a welcoming winter adventure for all ages and abilities. \nBundle up\, bring your skis\, and enjoy the crisp night air and community spirit at Catamount! \nRental Hub will be closed for night ops.  \nCondition Dependent:If we’re not grooming (meaning there isn’t enough snow to pack)\, we will not be open for night operations. Thanks for understanding!
URL:https://catamountoutdoor.org/events/night-loop/2025-12-31/
LOCATION:Catamount Outdoor Family Center\, 592 Governor Chittenden Road\, Williston\, VT\, United States
ATTACH;FMTTYPE=image/jpeg:https://catamountoutdoor.org/wp-content/uploads/2025/10/C5562EE6-E511-4A86-9C8C-BE7D7BB11390_1_105_c-e1759514498519.jpeg
ORGANIZER;CN="Catamount Outdoor Family Center":MAILTO:thehub@catamountoutdoor.org
END:VEVENT
BEGIN:VEVENT
DTSTART;TZID=America/New_York:20260101T160000
DTEND;TZID=America/New_York:20260101T200000
DTSTAMP:20260420T011710
CREATED:20251020T194624Z
LAST-MODIFIED:20260309T161339Z
UID:10001458-1767283200-1767297600@catamountoutdoor.org
SUMMARY:Night Loop
DESCRIPTION:Experience the magic of winter nights at Catamount! Join us for Nordic skiing under the lights on our beautiful night loop\, open Tuesdays\, Wednesdays\, and Thursdays from 4:00 PM to 8:00 PM all winter long. \nWhether you’re out for a relaxed family ski\, some social laps with friends\, or a quick evening workout\, the lighted trails offer a welcoming winter adventure for all ages and abilities. \nBundle up\, bring your skis\, and enjoy the crisp night air and community spirit at Catamount! \nRental Hub will be closed for night ops.  \nCondition Dependent:If we’re not grooming (meaning there isn’t enough snow to pack)\, we will not be open for night operations. Thanks for understanding!
URL:https://catamountoutdoor.org/events/night-loop/2026-01-01/
LOCATION:Catamount Outdoor Family Center\, 592 Governor Chittenden Road\, Williston\, VT\, United States
ATTACH;FMTTYPE=image/jpeg:https://catamountoutdoor.org/wp-content/uploads/2025/10/C5562EE6-E511-4A86-9C8C-BE7D7BB11390_1_105_c-e1759514498519.jpeg
ORGANIZER;CN="Catamount Outdoor Family Center":MAILTO:thehub@catamountoutdoor.org
END:VEVENT
BEGIN:VEVENT
DTSTART;TZID=America/New_York:20260101T180000
DTEND;TZID=America/New_York:20260101T200000
DTSTAMP:20260420T011710
CREATED:20251020T193808Z
LAST-MODIFIED:20251205T164844Z
UID:10001380-1767290400-1767297600@catamountoutdoor.org
SUMMARY:Fat Thursdays - Fat Bike Social Ride 
DESCRIPTION:Join us every Thursday evening this winter for a fun and social Fat Bike Ride through the Catamount Community Forest with the Catamount Outdoor Family Center! \nStarting mid-December through mid-March (weather dependent)\, ride from 6:00 PM–8:00 PM with the Catamount Crew. Guided by experienced riders and often volunteer Board Members\, this is a great way to explore the trails\, meet other fat bikers\, learn more about Catamount OFC\, and stay active all winter long. \nAll are welcome! \nDetails: \n\nWhen: Thursdays\, 6:00 PM meet / 6:15 PM ride-out\nWhere: Catamount Outdoor Family Center parking lot Hub\nPace: InterMellow (social\, no-drop pace)\nLevel: Intermediate\nTerrain: Intermediate\nDuration: ~1.5–2 hours\nCost: Free for members; $15–$20 Day Membership for non-members (donations appreciated)\n\nWhat to Bring:Bike\, helmet\, headlamp or bike light (plus extra batteries)\, warm layers\, hand warmers\, water\, and snacks. \nWhat if we cancel?Check back here\, on our Facebook and Instagram Stories\, or on the Facebook event listing for updates. We’ll post cancellations by 4:00 PM whenever possible. \nFeedback:Help us improve our community rides—share your thoughts after the event!
URL:https://catamountoutdoor.org/events/fat-thursdays-fat-bike-social-ride/2026-01-01/
LOCATION:Catamount Outdoor Family Center\, 592 Governor Chittenden Road\, Williston\, VT\, United States
CATEGORIES:bike
ATTACH;FMTTYPE=image/png:https://catamountoutdoor.org/wp-content/uploads/2024/10/IMG_1950-e1729708512326.png
ORGANIZER;CN="Catamount Outdoor Family Center":MAILTO:thehub@catamountoutdoor.org
END:VEVENT
BEGIN:VEVENT
DTSTART;TZID=America/New_York:20260101T190000
DTEND;TZID=America/New_York:20260101T203000
DTSTAMP:20260420T011710
CREATED:20251017T201637Z
LAST-MODIFIED:20251231T175716Z
UID:10001373-1767294000-1767299400@catamountoutdoor.org
SUMMARY:Tour De Moon: New Year’s Night Adventure
DESCRIPTION:Ring in the New Year under the stars at Catamount Community Forest with the Catamount Outdoor Family Center! ✨Join us for a magical New Year’s Night Tour De Moon\, a family-friendly guided outing through the peaceful winter woods on snowshoes. Our ski option is postponed due to icy snow conditions. \nCelebrate the start of 2026 by getting outside\, connecting with your community\, and discovering the wonder of your local trails by moonlight. \nDon’t miss this unforgettable way to welcome the new year\, surrounded by nature\, friends\, and glowing snow! \nDate: January 1\, 2026Activity: New Year’s Night Ski or Snowshoe!Time: 7:00 PM – 8:30 PMWhat to Bring: Headlamp\, water\, personal equipment\, warm layers\, hand warmers\, snacks as needed.Cost: $25/person (rentals not included but available on site starting at 6:45 PM)Pace: InterMellowRegistration: Starting December 1stQuestions: Email programs@catamountoutdoor.org \nNotes: \n\nLimited spots available — register early!\nPlease arrive 15 minutes early for check-in.\nYouth under 12 must be registered with an adult.\n\nWe can’t wait to start 2026 with you on the trails! \nFuture Tour De Moon options: January 30th (blue moon) & March 1st
URL:https://catamountoutdoor.org/events/tour-de-moon-new-years-night-adventure/
LOCATION:Catamount Outdoor Family Center\, 592 Governor Chittenden Road\, Williston\, VT\, United States
ATTACH;FMTTYPE=image/png:https://catamountoutdoor.org/wp-content/uploads/2025/10/1.png
ORGANIZER;CN="Catamount Outdoor Family Center":MAILTO:thehub@catamountoutdoor.org
END:VEVENT
END:VCALENDAR