BEGIN:VCALENDAR
VERSION:2.0
PRODID:-//Catamount Outdoor Family Center - ECPv6.15.20//NONSGML v1.0//EN
CALSCALE:GREGORIAN
METHOD:PUBLISH
X-WR-CALNAME:Catamount Outdoor Family Center
X-ORIGINAL-URL:https://catamountoutdoor.org
X-WR-CALDESC:Events for Catamount Outdoor Family Center
REFRESH-INTERVAL;VALUE=DURATION:PT1H
X-Robots-Tag:noindex
X-PUBLISHED-TTL:PT1H
BEGIN:VTIMEZONE
TZID:America/New_York
BEGIN:DAYLIGHT
TZOFFSETFROM:-0500
TZOFFSETTO:-0400
TZNAME:EDT
DTSTART:20240310T070000
END:DAYLIGHT
BEGIN:STANDARD
TZOFFSETFROM:-0400
TZOFFSETTO:-0500
TZNAME:EST
DTSTART:20241103T060000
END:STANDARD
BEGIN:DAYLIGHT
TZOFFSETFROM:-0500
TZOFFSETTO:-0400
TZNAME:EDT
DTSTART:20250309T070000
END:DAYLIGHT
BEGIN:STANDARD
TZOFFSETFROM:-0400
TZOFFSETTO:-0500
TZNAME:EST
DTSTART:20251102T060000
END:STANDARD
BEGIN:DAYLIGHT
TZOFFSETFROM:-0500
TZOFFSETTO:-0400
TZNAME:EDT
DTSTART:20260308T070000
END:DAYLIGHT
BEGIN:STANDARD
TZOFFSETFROM:-0400
TZOFFSETTO:-0500
TZNAME:EST
DTSTART:20261101T060000
END:STANDARD
END:VTIMEZONE
BEGIN:VEVENT
DTSTART;TZID=America/New_York:20251211T180000
DTEND;TZID=America/New_York:20251211T200000
DTSTAMP:20260420T040043
CREATED:20251020T193808Z
LAST-MODIFIED:20251205T164844Z
UID:10001377-1765476000-1765483200@catamountoutdoor.org
SUMMARY:Fat Thursdays - Fat Bike Social Ride 
DESCRIPTION:Join us every Thursday evening this winter for a fun and social Fat Bike Ride through the Catamount Community Forest with the Catamount Outdoor Family Center! \nStarting mid-December through mid-March (weather dependent)\, ride from 6:00 PM–8:00 PM with the Catamount Crew. Guided by experienced riders and often volunteer Board Members\, this is a great way to explore the trails\, meet other fat bikers\, learn more about Catamount OFC\, and stay active all winter long. \nAll are welcome! \nDetails: \n\nWhen: Thursdays\, 6:00 PM meet / 6:15 PM ride-out\nWhere: Catamount Outdoor Family Center parking lot Hub\nPace: InterMellow (social\, no-drop pace)\nLevel: Intermediate\nTerrain: Intermediate\nDuration: ~1.5–2 hours\nCost: Free for members; $15–$20 Day Membership for non-members (donations appreciated)\n\nWhat to Bring:Bike\, helmet\, headlamp or bike light (plus extra batteries)\, warm layers\, hand warmers\, water\, and snacks. \nWhat if we cancel?Check back here\, on our Facebook and Instagram Stories\, or on the Facebook event listing for updates. We’ll post cancellations by 4:00 PM whenever possible. \nFeedback:Help us improve our community rides—share your thoughts after the event!
URL:https://catamountoutdoor.org/events/fat-thursdays-fat-bike-social-ride/2025-12-11/
LOCATION:Catamount Outdoor Family Center\, 592 Governor Chittenden Road\, Williston\, VT\, United States
CATEGORIES:bike
ATTACH;FMTTYPE=image/png:https://catamountoutdoor.org/wp-content/uploads/2024/10/IMG_1950-e1729708512326.png
ORGANIZER;CN="Catamount Outdoor Family Center":MAILTO:thehub@catamountoutdoor.org
END:VEVENT
END:VCALENDAR