BEGIN:VCALENDAR
VERSION:2.0
PRODID:-//Catamount Outdoor Family Center - ECPv6.15.20//NONSGML v1.0//EN
CALSCALE:GREGORIAN
METHOD:PUBLISH
X-WR-CALNAME:Catamount Outdoor Family Center
X-ORIGINAL-URL:https://catamountoutdoor.org
X-WR-CALDESC:Events for Catamount Outdoor Family Center
REFRESH-INTERVAL;VALUE=DURATION:PT1H
X-Robots-Tag:noindex
X-PUBLISHED-TTL:PT1H
BEGIN:VTIMEZONE
TZID:America/New_York
BEGIN:DAYLIGHT
TZOFFSETFROM:-0500
TZOFFSETTO:-0400
TZNAME:EDT
DTSTART:20240310T070000
END:DAYLIGHT
BEGIN:STANDARD
TZOFFSETFROM:-0400
TZOFFSETTO:-0500
TZNAME:EST
DTSTART:20241103T060000
END:STANDARD
BEGIN:DAYLIGHT
TZOFFSETFROM:-0500
TZOFFSETTO:-0400
TZNAME:EDT
DTSTART:20250309T070000
END:DAYLIGHT
BEGIN:STANDARD
TZOFFSETFROM:-0400
TZOFFSETTO:-0500
TZNAME:EST
DTSTART:20251102T060000
END:STANDARD
BEGIN:DAYLIGHT
TZOFFSETFROM:-0500
TZOFFSETTO:-0400
TZNAME:EDT
DTSTART:20260308T070000
END:DAYLIGHT
BEGIN:STANDARD
TZOFFSETFROM:-0400
TZOFFSETTO:-0500
TZNAME:EST
DTSTART:20261101T060000
END:STANDARD
END:VTIMEZONE
BEGIN:VEVENT
DTSTART;TZID=America/New_York:20250518T080000
DTEND;TZID=America/New_York:20250518T143000
DTSTAMP:20260423T030706
CREATED:20250314T185649Z
LAST-MODIFIED:20250314T185649Z
UID:10001098-1747555200-1747578600@catamountoutdoor.org
SUMMARY:VTYC Spring Scrimmage & Coaches Clinic
DESCRIPTION:VYTC is excited to kick off the riding season with a scrimmage at the Catamount Outdoor Family Center! This is an opportunity for youth riders to try racing in a fun\, supportive\, and low-stakes environment. This is also your chance to test your fitness and skills heading into summer! Coaches–stick around for a coaches clinic from 12-2. \nVOLUNTEER SIGN UP! We need help with parking\, registration\, staging\, course sweeping\, and group ride leading! \nAll riders will choose a race category on the morning of the race:  \n5th & 6th grade race – race length will be approximately 3-4 miles – 1 lap \nCat C – novice riders – primarily 7th & 8th graders\, but open to high schoolers; stronger 5th & 6th graders may race up\, same race course as 5th & 6th grade\, approximately 3-4 miles – 1 lap \nCat B- intermediate riders – stronger middle school racers and less experienced high school students; approximately 6-8 miles – 2 laps \nCat A – advanced riders – more experienced high school students; approximately 9-12 miles – 3 laps \nPlease note: this race is hand-timed. There are no awards or podium!  \nVenue Considerations: Catamount Outdoor Family Center (COFC)\, a 501(c)3 non profit funded through membership\, is the official manager of the trails\, facilities\, programs\, camps and events in the Catamount Community Forest (CCF). The CCF committee and the Town of Williston are in charge of the overall property\, and manage the fields and forests. \n\n\nRestrooms: 2-3 portable toilets available \nTrash: Pack in pack out facility so please plan accordingly\nNo pets allowed\nParking: Use the main lot. If the lot is full\, park on the north side of the road. Parking on both sides of Governor Chittenden Road is NOT allowed as emergency vehicle access must be maintained. 
URL:https://catamountoutdoor.org/events/vtyc-spring-scrimmage-coaches-clinic/
LOCATION:Catamount Outdoor Family Center\, 592 Governor Chittenden Road\, Williston\, VT\, United States
CATEGORIES:bike,Clinic,Family Event,Youth Events
ATTACH;FMTTYPE=image/jpeg:https://catamountoutdoor.org/wp-content/uploads/2025/03/1D4D8E18-54FB-438F-8F6A-7A6C3CBA3008_1_105_c.jpeg
END:VEVENT
END:VCALENDAR