BEGIN:VCALENDAR
VERSION:2.0
PRODID:-//Catamount Outdoor Family Center - ECPv6.15.20//NONSGML v1.0//EN
CALSCALE:GREGORIAN
METHOD:PUBLISH
X-ORIGINAL-URL:https://catamountoutdoor.org
X-WR-CALDESC:Events for Catamount Outdoor Family Center
REFRESH-INTERVAL;VALUE=DURATION:PT1H
X-Robots-Tag:noindex
X-PUBLISHED-TTL:PT1H
BEGIN:VTIMEZONE
TZID:America/New_York
BEGIN:DAYLIGHT
TZOFFSETFROM:-0500
TZOFFSETTO:-0400
TZNAME:EDT
DTSTART:20240310T070000
END:DAYLIGHT
BEGIN:STANDARD
TZOFFSETFROM:-0400
TZOFFSETTO:-0500
TZNAME:EST
DTSTART:20241103T060000
END:STANDARD
BEGIN:DAYLIGHT
TZOFFSETFROM:-0500
TZOFFSETTO:-0400
TZNAME:EDT
DTSTART:20250309T070000
END:DAYLIGHT
BEGIN:STANDARD
TZOFFSETFROM:-0400
TZOFFSETTO:-0500
TZNAME:EST
DTSTART:20251102T060000
END:STANDARD
BEGIN:DAYLIGHT
TZOFFSETFROM:-0500
TZOFFSETTO:-0400
TZNAME:EDT
DTSTART:20260308T070000
END:DAYLIGHT
BEGIN:STANDARD
TZOFFSETFROM:-0400
TZOFFSETTO:-0500
TZNAME:EST
DTSTART:20261101T060000
END:STANDARD
END:VTIMEZONE
BEGIN:VEVENT
DTSTART;TZID=America/New_York:20250511T090000
DTEND;TZID=America/New_York:20250511T140000
DTSTAMP:20260423T030941
CREATED:20241211T212534Z
LAST-MODIFIED:20250411T174811Z
UID:10000900-1746954000-1746972000@catamountoutdoor.org
SUMMARY:Spring Launch Gravel Ride
DESCRIPTION:Registration Opens on 4/11/25 at 4pm!Spring Launch Gravel Ride at Catamount Outdoor Family Center \nGet ready to kick off the season with our Spring Gravel Ride at the beautiful Catamount Outdoor Family Center! Whether you’re a seasoned gravel rider or just looking for a fun day out with friends\, we’ve got a route or trail for everyone. Choose between two scenic gravel loops—20 miles or 50 miles—each offering a unique experience through mostly unpaved roads. Our trail network is available for those who want to ride but are looking for shorter loops. \nEvent Details: \n\nDate: May 11\, 2025 (Rain date: May 31\, 2025)\nLocation: Catamount Outdoor Family Center\nLoop Options: 20 miles or 50 miles \n\nRegistration Fees: \n\n$30 per person (advance)\n$40 per person (day of event from 8am to 8:45am only)\n\nWhat’s Included with Your Registration? \n\nEntry for your chosen loop\nA raffle ticket for a chance to win exciting prizes (2025 Race Series Entry)\nA delicious lunch and drink to refuel after your ride- Vendors and Sponsors listed soon!\nDay Membership to COFC trail network and Spring Launch Party\n\nBest of all\, all proceeds from this event will benefit the Catamount Outdoor Family Center (COFC)\, a local 501(c)(3) nonprofit dedicated to providing outdoor recreation and educational programs for all ages. \nAfter the Ride: Once you finish\, roll into the heart of the fun on our Sandmans Loop\, where you’ll pop out in our venue field\, ready to celebrate your ride at the Spring Launch Party! Enjoy great food\, drinks\, live music\, yard games\, and a chance to connect with fellow riders and supporters of COFC.
URL:https://catamountoutdoor.org/events/spring-catamount-ofc-gravel-ride/
LOCATION:Catamount Outdoor Family Center\, 592 Governor Chittenden Road\, Williston\, VT\, United States
ATTACH;FMTTYPE=image/png:https://catamountoutdoor.org/wp-content/uploads/2024/12/Screenshot-2025-04-11-at-12.10.36 PM.png
ORGANIZER;CN="Catamount Outdoor Family Center":MAILTO:thehub@catamountoutdoor.org
END:VEVENT
BEGIN:VEVENT
DTSTART;TZID=America/New_York:20250511T120000
DTEND;TZID=America/New_York:20250511T140000
DTSTAMP:20260423T030941
CREATED:20250408T171021Z
LAST-MODIFIED:20250415T183410Z
UID:10001228-1746964800-1746972000@catamountoutdoor.org
SUMMARY:Spring Launch Party: Beginner MTB Clinic
DESCRIPTION:Join us for a fun and informative beginner MTB Clinic at our Spring Launch Party on May 11th! \nWhether you’re new to mountain biking or looking to refine your skills\, this clinic is perfect for kick starting the season. Our experienced instructors will guide you through the basics of technique\, equipment\, and safety while you enjoy the beautiful landscape at Catamount OFC. \nDate: May 11th\, 2025\nTime: 12:00PM to 2:00PM\nCost: $60/person (Includes Day Membership) Limited rentals bikes available- email programs@catamountoutdoor.org to reserve. \nWhat to Bring:\n-Comfortable active layers\n-Bike & Helmet\n-Water bottle\n-Snacks\n-Raincoat\n-Sunglasses (optional)\n-Riding gloves (optional)\n-Repair kit (optional) \nNotes: Limited spots available\, so register early! Please arrive 15 minutes early for check-in. Youth under 14 need an adult to  be on site during the clinics. Youth under 8 need an adult register with them.\n \nQuestions: Email programs@catamountoutdoor.org \nOther beginner MTB Clinic options: \n–May 11th: 12pm start time\n–May 11th: 2pm start time\n–May 17th: Youth focused\n–May 31: Women focused\n–May 24th:\n–June 21: Women focused\n–July 12th
URL:https://catamountoutdoor.org/events/spring-launch-party-beginner-mtb-clinic/
LOCATION:Catamount Outdoor Family Center\, 592 Governor Chittenden Road\, Williston\, VT\, United States
ATTACH;FMTTYPE=image/jpeg:https://catamountoutdoor.org/wp-content/uploads/2025/04/F28E2367-D347-470B-84EA-810285A763A1_1_105_c.jpeg
ORGANIZER;CN="Catamount Outdoor Family Center":MAILTO:thehub@catamountoutdoor.org
END:VEVENT
BEGIN:VEVENT
DTSTART;TZID=America/New_York:20250511T140000
DTEND;TZID=America/New_York:20250511T160000
DTSTAMP:20260423T030941
CREATED:20250408T174708Z
LAST-MODIFIED:20250409T144542Z
UID:10001229-1746972000-1746979200@catamountoutdoor.org
SUMMARY:Spring Launch Party: Beginner MTB Clinic
DESCRIPTION:Join us for a fun and informative beginner MTB Clinic at our Spring Launch Party on May 11th! \nWhether you’re new to mountain biking or looking to refine your skills\, this clinic is perfect for kick starting the season. Our experienced instructors will guide you through the basics of technique\, equipment\, and safety while you enjoy the beautiful landscape at Catamount OFC. \nDate: May 11th\, 2025\nTime: 2:00PM to 4:00PM\nCost: $60/person (Includes Day Membership) Limited rentals bikes available- email programs@catamountoutdoor.org to reserve. \nWhat to Bring:\n-Comfortable active layers\n-Bike & Helmet\n-Water bottle\n-Snacks\n-Raincoat\n-Sunglasses (optional)\n-Riding gloves (optional)\n-Repair kit (optional) \nNotes: Limited spots available\, so register early! Please arrive 15 minutes early for check-in. Youth under 12 need an adult to  be on site during the clinics. Youth under 8 need an adult register with them.\n \nQuestions: Email programs@catamountoutdoor \nOther beginner MTB Clinic options: \n–May 11th: 12pm start time\n–May 11th: 2pm start time\n–May 17th: Youth focused\n–May 31: Women focused\n–May 24th:\n–June 21: Women focused\n–July 12th
URL:https://catamountoutdoor.org/events/spring-launch-party-beginner-mtb-clinic-2/
LOCATION:Catamount Outdoor Family Center\, 592 Governor Chittenden Road\, Williston\, VT\, United States
ATTACH;FMTTYPE=image/jpeg:https://catamountoutdoor.org/wp-content/uploads/2025/04/F28E2367-D347-470B-84EA-810285A763A1_1_105_c.jpeg
ORGANIZER;CN="Catamount Outdoor Family Center":MAILTO:thehub@catamountoutdoor.org
END:VEVENT
END:VCALENDAR