BEGIN:VCALENDAR
VERSION:2.0
PRODID:-//Catamount Outdoor Family Center - ECPv6.15.20//NONSGML v1.0//EN
CALSCALE:GREGORIAN
METHOD:PUBLISH
X-WR-CALNAME:Catamount Outdoor Family Center
X-ORIGINAL-URL:https://catamountoutdoor.org
X-WR-CALDESC:Events for Catamount Outdoor Family Center
REFRESH-INTERVAL;VALUE=DURATION:PT1H
X-Robots-Tag:noindex
X-PUBLISHED-TTL:PT1H
BEGIN:VTIMEZONE
TZID:America/New_York
BEGIN:DAYLIGHT
TZOFFSETFROM:-0500
TZOFFSETTO:-0400
TZNAME:EDT
DTSTART:20250309T070000
END:DAYLIGHT
BEGIN:STANDARD
TZOFFSETFROM:-0400
TZOFFSETTO:-0500
TZNAME:EST
DTSTART:20251102T060000
END:STANDARD
BEGIN:DAYLIGHT
TZOFFSETFROM:-0500
TZOFFSETTO:-0400
TZNAME:EDT
DTSTART:20260308T070000
END:DAYLIGHT
BEGIN:STANDARD
TZOFFSETFROM:-0400
TZOFFSETTO:-0500
TZNAME:EST
DTSTART:20261101T060000
END:STANDARD
BEGIN:DAYLIGHT
TZOFFSETFROM:-0500
TZOFFSETTO:-0400
TZNAME:EDT
DTSTART:20270314T070000
END:DAYLIGHT
BEGIN:STANDARD
TZOFFSETFROM:-0400
TZOFFSETTO:-0500
TZNAME:EST
DTSTART:20271107T060000
END:STANDARD
END:VTIMEZONE
BEGIN:VEVENT
DTSTART;TZID=America/New_York:20260711T100000
DTEND;TZID=America/New_York:20260711T120000
DTSTAMP:20260421T173201
CREATED:20260421T130327Z
LAST-MODIFIED:20260421T131641Z
UID:10001978-1783764000-1783771200@catamountoutdoor.org
SUMMARY:Intermediate MTB Clinic
DESCRIPTION:Join us for a 2-hour Intermediate MTB Clinic and take your bike skills to the next level! \nRegistration is limited to the first 16 participants; View all clinic info and register\, here.  \nIn this clinic\, we’ll build upon your beginner skills while exploring intermediate trails and terrain\, including roots\, rocks\, dirt\, and wood features. We’ll also play bike games as we practice drills and refine key skills. Focus areas include braking\, body positioning\, and skill blending (braking\, riding\, shifting\, and pedaling). \n⚠️ Prerequisites: \n\n\nCompletion of a beginner skills clinic at Catamount within the last 3 years\, or \n\n\nDemonstration of all of the following skills: \n\n\n\n-Eyes forward\, scanning ahead while riding\n-Covering brakes with one finger while riding\n-Use of both brakes to slow down and stop\n-“Neutral” and “Ready” riding positions\n-Pedaling on flat and varied terrain\n-Stand-up riding on flat and varied terrain with even pedals\n-Turning in both directions\n\nIf you have any questions about your skill level for this clinic\, please contact us at programs@catamountoutdoor.org. \nPlease bring your bike\, helmet\, water\, snack\, and any other gear you need to feel comfortable. Need a rental bike? We have a limited selection available; first come\, first served. \n⚠️ Supervision Requirements:\nAll youth under age 14 must have a guardian on-site during any lesson\, clinic\, or tour; Youth under age 8 must have a guardian registered with them for any clinic. \nRegistration is limited to the first 16 participants; View all clinic info and register\, here. 
URL:https://catamountoutdoor.org/events/intermediate-mtb-clinic-3/2026-07-11/
LOCATION:Catamount Outdoor Family Center\, 592 Governor Chittenden Road\, Williston\, VT\, United States
CATEGORIES:Clinic
ATTACH;FMTTYPE=image/jpeg:https://catamountoutdoor.org/wp-content/uploads/2025/10/8EDDB539-8045-449F-B4AB-E8C90A82ACCC_1_105_c-e1759439455213.jpeg
ORGANIZER;CN="Catamount Outdoor Family Center":MAILTO:thehub@catamountoutdoor.org
END:VEVENT
BEGIN:VEVENT
DTSTART;TZID=America/New_York:20260801T100000
DTEND;TZID=America/New_York:20260801T120000
DTSTAMP:20260421T173201
CREATED:20260421T130327Z
LAST-MODIFIED:20260421T131641Z
UID:10001979-1785578400-1785585600@catamountoutdoor.org
SUMMARY:Intermediate MTB Clinic
DESCRIPTION:Join us for a 2-hour Intermediate MTB Clinic and take your bike skills to the next level! \nRegistration is limited to the first 16 participants; View all clinic info and register\, here.  \nIn this clinic\, we’ll build upon your beginner skills while exploring intermediate trails and terrain\, including roots\, rocks\, dirt\, and wood features. We’ll also play bike games as we practice drills and refine key skills. Focus areas include braking\, body positioning\, and skill blending (braking\, riding\, shifting\, and pedaling). \n⚠️ Prerequisites: \n\n\nCompletion of a beginner skills clinic at Catamount within the last 3 years\, or \n\n\nDemonstration of all of the following skills: \n\n\n\n-Eyes forward\, scanning ahead while riding\n-Covering brakes with one finger while riding\n-Use of both brakes to slow down and stop\n-“Neutral” and “Ready” riding positions\n-Pedaling on flat and varied terrain\n-Stand-up riding on flat and varied terrain with even pedals\n-Turning in both directions\n\nIf you have any questions about your skill level for this clinic\, please contact us at programs@catamountoutdoor.org. \nPlease bring your bike\, helmet\, water\, snack\, and any other gear you need to feel comfortable. Need a rental bike? We have a limited selection available; first come\, first served. \n⚠️ Supervision Requirements:\nAll youth under age 14 must have a guardian on-site during any lesson\, clinic\, or tour; Youth under age 8 must have a guardian registered with them for any clinic. \nRegistration is limited to the first 16 participants; View all clinic info and register\, here. 
URL:https://catamountoutdoor.org/events/intermediate-mtb-clinic-3/2026-08-01/
LOCATION:Catamount Outdoor Family Center\, 592 Governor Chittenden Road\, Williston\, VT\, United States
CATEGORIES:Clinic
ATTACH;FMTTYPE=image/jpeg:https://catamountoutdoor.org/wp-content/uploads/2025/10/8EDDB539-8045-449F-B4AB-E8C90A82ACCC_1_105_c-e1759439455213.jpeg
ORGANIZER;CN="Catamount Outdoor Family Center":MAILTO:thehub@catamountoutdoor.org
END:VEVENT
END:VCALENDAR