BEGIN:VCALENDAR
VERSION:2.0
PRODID:-//Catamount Outdoor Family Center - ECPv6.15.20//NONSGML v1.0//EN
CALSCALE:GREGORIAN
METHOD:PUBLISH
X-ORIGINAL-URL:https://catamountoutdoor.org
X-WR-CALDESC:Events for Catamount Outdoor Family Center
REFRESH-INTERVAL;VALUE=DURATION:PT1H
X-Robots-Tag:noindex
X-PUBLISHED-TTL:PT1H
BEGIN:VTIMEZONE
TZID:America/New_York
BEGIN:DAYLIGHT
TZOFFSETFROM:-0500
TZOFFSETTO:-0400
TZNAME:EDT
DTSTART:20250309T070000
END:DAYLIGHT
BEGIN:STANDARD
TZOFFSETFROM:-0400
TZOFFSETTO:-0500
TZNAME:EST
DTSTART:20251102T060000
END:STANDARD
BEGIN:DAYLIGHT
TZOFFSETFROM:-0500
TZOFFSETTO:-0400
TZNAME:EDT
DTSTART:20260308T070000
END:DAYLIGHT
BEGIN:STANDARD
TZOFFSETFROM:-0400
TZOFFSETTO:-0500
TZNAME:EST
DTSTART:20261101T060000
END:STANDARD
BEGIN:DAYLIGHT
TZOFFSETFROM:-0500
TZOFFSETTO:-0400
TZNAME:EDT
DTSTART:20270314T070000
END:DAYLIGHT
BEGIN:STANDARD
TZOFFSETFROM:-0400
TZOFFSETTO:-0500
TZNAME:EST
DTSTART:20271107T060000
END:STANDARD
END:VTIMEZONE
BEGIN:VEVENT
DTSTART;TZID=America/New_York:20260928T163000
DTEND;TZID=America/New_York:20260928T174500
DTSTAMP:20260422T224654
CREATED:20251119T204738Z
LAST-MODIFIED:20260406T200737Z
UID:10001696-1790613000-1790617500@catamountoutdoor.org
SUMMARY:2026 Youth Bike Club: GULLY WHUMPERS
DESCRIPTION:Catamount OFC’s Cycling Club – 2026 Season\n\nGULLY WHUMPERS: For Ages 8-10 \n\n\nDeveloping Riders – Gaining Skills and Confidence \nGully Whumpers is for kids who have some trail experience or are newer riders ready to take their biking to the next level. Participants should be comfortable pedaling on narrow singletrack that have some rocks and roots\, turning on varied terrain\, and riding up and down green-level trails. \nThis group emphasizes skill progression\, exploring different types of terrain\, and building endurance. Riders will begin working on techniques like cornering\, shifting\, climbing\, and descending\, with opportunities to progress to more challenging blue and black trails as they’re ready. \nWHEN: Monday & Wednesday: 4:30-5:45pm\nMay 11th- September 30th \n\nCheck out our Cycling Club page to learn more!
URL:https://catamountoutdoor.org/events/2026-cycling-club/2026-09-28/
LOCATION:Catamount Outdoor Family Center\, 592 Governor Chittenden Road\, Williston\, VT\, United States
CATEGORIES:Mountain Bike Events,Youth Events
ATTACH;FMTTYPE=image/jpeg:https://catamountoutdoor.org/wp-content/uploads/2025/10/0F6F231D-42D1-4D05-A0DC-5A81A1156C18_1_105_c-e1761153308943.jpeg
ORGANIZER;CN="Catamount Outdoor Family Center":MAILTO:thehub@catamountoutdoor.org
END:VEVENT
BEGIN:VEVENT
DTSTART;TZID=America/New_York:20260928T163000
DTEND;TZID=America/New_York:20260928T183000
DTSTAMP:20260422T224654
CREATED:20260406T194830Z
LAST-MODIFIED:20260406T200951Z
UID:10001977-1790613000-1790620200@catamountoutdoor.org
SUMMARY:2026 Youth Bike Club: CLOVERS ROLLERS
DESCRIPTION:Catamount OFC’s Cycling Club – 2026 Season\nCLOVER’S ROLLERS: For Ages 7-10 \n\n\nGrow confidence on trails \nClovers Roller’s focus on fun\, confidence\, and builds on foundational mountain biking skills in a supportive all-girls environment. Through games\, skill-building activities\, and trail rides\, riders will develop balance\, braking control\, body position\, and trail awareness. \nBeyond riding skills\, Clovers Roller’s encourages teamwork\, perseverance\, and a love for the outdoors. Coaches foster a positive environment where riders support one another\, challenge themselves\, and celebrate progress along the way. \nParticipants will also learn about trail stewardship and Leave No Trace principles while exploring the beautiful trails of the Catamount Community Forest. \nRiders should be able to pedal independently\, stop using hand brakes\, steer confidently\, and have some experience riding on unpaved paths or gentle terrain. Training wheels and strider bikes are not permitted. If your child still needs support learning to ride\, please check out our private lessons. \nCheck out our Cycling Club page to learn more!
URL:https://catamountoutdoor.org/events/2026-youth-bike-club-clovers-rollers/2026-09-28/
LOCATION:Catamount Outdoor Family Center\, 592 Governor Chittenden Road\, Williston\, VT\, United States
ATTACH;FMTTYPE=image/jpeg:https://catamountoutdoor.org/wp-content/uploads/2025/10/FF38B4DF-80C2-4988-9E05-7CC9C20F20E1.jpeg
ORGANIZER;CN="Catamount Outdoor Family Center":MAILTO:thehub@catamountoutdoor.org
END:VEVENT
BEGIN:VEVENT
DTSTART;TZID=America/New_York:20260928T174500
DTEND;TZID=America/New_York:20260928T190000
DTSTAMP:20260422T224654
CREATED:20260406T194334Z
LAST-MODIFIED:20260406T200759Z
UID:10001956-1790617500-1790622000@catamountoutdoor.org
SUMMARY:2026 Youth Bike Club: MAD MAXERS
DESCRIPTION:Catamount OFC’s Cycling Club – 2026 Season\n\n\nMAD MAXERS: ~Ages 11-14 \n\n\n\n\n\n\n\n\n\n\n\n\n\nIntermediate to Advanced – Shredding with Purpose \nMad Maxer riders have solid trail experience and are ready to sharpen their skills and take on more challenging rides. Participants should be confident on green & blue trails\, and comfortable with moderate climbs\, descents\, and riding for longer durations. \nThis group focuses on more racing and technical riding: cornering technique\, riding at speed\, line choice\, and progression toward jumps\, manuals\, and other trail features\, all based on individual readiness. Riders will also learn about trail etiquette\, race dynamics\, and ride preparedness\, including basic on-trail repairs and navigation. \nCheck out our Cycling Club page to learn more!
URL:https://catamountoutdoor.org/events/2026-youth-bike-club-mad-maxers/2026-09-28/
LOCATION:Catamount Outdoor Family Center\, 592 Governor Chittenden Road\, Williston\, VT\, United States
CATEGORIES:Mountain Bike Events,Youth Events
ATTACH;FMTTYPE=image/jpeg:https://catamountoutdoor.org/wp-content/uploads/2025/10/014809CF-590A-49A1-90C1-6D319556F7D4_1_105_c-e1761244381255.jpeg
ORGANIZER;CN="Catamount Outdoor Family Center":MAILTO:thehub@catamountoutdoor.org
END:VEVENT
BEGIN:VEVENT
DTSTART;TZID=America/New_York:20260928T180000
DTEND;TZID=America/New_York:20260928T193000
DTSTAMP:20260422T224654
CREATED:20251120T154633Z
LAST-MODIFIED:20260406T193436Z
UID:10001873-1790618400-1790623800@catamountoutdoor.org
SUMMARY:Novice Monday: Guided Ride
DESCRIPTION:Monday Evening MTB Novice Ride Join us at Catamount every Monday evening this summer for our volunteer-led guided MTB Novice Rides! \nStarting on May 11th\, and running each Monday (weather dependent) until the end of September\, enjoy riding through the Catamount Community Forest on beginner and novice-friendly trails from 6:00pm to ~7:30pm at a mellow pace. These rides are perfect for those new to mountain biking or those looking for a mellow\, group ride. \nThe Monday series increases in difficulty each week and then resets at the start of the following month. For these rides\, we will only use double-track and single-track green trails\, which are less technical and ideal for those getting comfortable on their bikes. Some of our easier blue trails may be used toward the end of the month\, depending on the group. \nPlease note\, this is a group ride and NOT a clinic or lesson. While tips may be shared\, those seeking skill instruction and sessioning of features should register for one of our Beginner MTB clinic options. \nWhat: MTB Novice RideWhen: Every Monday (weather dependent) Meet: 6:00 / Ride: 6:15Where: Meet up at COFC parking lotPace: MellowLevel: Beginner & Novice Riders Terrain: Double Track & Single Track Green TrailsDuration: ~1.5 hoursCost: Free to members; $10.70 for non-members \nAny cancelations will be posted here\, on FB\, and on our instagram stories. \nLooking for an intermediate ride? Check out our Thursday Night Social Series!
URL:https://catamountoutdoor.org/events/novice-monday-guided-ride/2026-09-28/
LOCATION:Catamount Outdoor Family Center\, 592 Governor Chittenden Road\, Williston\, VT\, United States
ATTACH;FMTTYPE=image/jpeg:https://catamountoutdoor.org/wp-content/uploads/2025/10/996B2D1E-DFEF-4782-999E-19EADE0A17C6_1_105_c-e1759520683597.jpeg
ORGANIZER;CN="Catamount Outdoor Family Center":MAILTO:thehub@catamountoutdoor.org
END:VEVENT
BEGIN:VEVENT
DTSTART;TZID=America/New_York:20260930T163000
DTEND;TZID=America/New_York:20260930T174500
DTSTAMP:20260422T224654
CREATED:20251119T204738Z
LAST-MODIFIED:20260406T200737Z
UID:10001697-1790785800-1790790300@catamountoutdoor.org
SUMMARY:2026 Youth Bike Club: GULLY WHUMPERS
DESCRIPTION:Catamount OFC’s Cycling Club – 2026 Season\n\nGULLY WHUMPERS: For Ages 8-10 \n\n\nDeveloping Riders – Gaining Skills and Confidence \nGully Whumpers is for kids who have some trail experience or are newer riders ready to take their biking to the next level. Participants should be comfortable pedaling on narrow singletrack that have some rocks and roots\, turning on varied terrain\, and riding up and down green-level trails. \nThis group emphasizes skill progression\, exploring different types of terrain\, and building endurance. Riders will begin working on techniques like cornering\, shifting\, climbing\, and descending\, with opportunities to progress to more challenging blue and black trails as they’re ready. \nWHEN: Monday & Wednesday: 4:30-5:45pm\nMay 11th- September 30th \n\nCheck out our Cycling Club page to learn more!
URL:https://catamountoutdoor.org/events/2026-cycling-club/2026-09-30/
LOCATION:Catamount Outdoor Family Center\, 592 Governor Chittenden Road\, Williston\, VT\, United States
CATEGORIES:Mountain Bike Events,Youth Events
ATTACH;FMTTYPE=image/jpeg:https://catamountoutdoor.org/wp-content/uploads/2025/10/0F6F231D-42D1-4D05-A0DC-5A81A1156C18_1_105_c-e1761153308943.jpeg
ORGANIZER;CN="Catamount Outdoor Family Center":MAILTO:thehub@catamountoutdoor.org
END:VEVENT
BEGIN:VEVENT
DTSTART;TZID=America/New_York:20260930T173000
DTEND;TZID=America/New_York:20260930T183000
DTSTAMP:20260422T224654
CREATED:20251119T204227Z
LAST-MODIFIED:20251119T204227Z
UID:10001639-1790789400-1790793000@catamountoutdoor.org
SUMMARY:2026 Weekly Cyclocross!
DESCRIPTION:Join us for our 5 week cyclocross series this fall.\n\n2025 CX Wednesday Dates (Registration coming summer 2026)\n\n\n\nWeek 1: September 9th @5:30pm\nWeek 2: September 16th @5:30pm\nWeek 3: September 23rd @5:30pm\nWeek 4: September 30th @5:30pm\nWeek 5: October 7th @5:30pm & End of Season Celebration!\n\n\n\nCancellation Policy: Any series cancellations must be made prior to August 15th in order to receive a refund\, minus a $50 administrative fee. Any cancellations received after August 15th but before September 1st are eligible for a 50% refund only. Cancellations made after September 1st will not be eligible for any refund. Any single-night entries are non-refundable at the time of purchase. Should Catamount OFC need to cancel a race for any reason\, single-night entries will be carried over to the following race night.\n\nWhat is Cyclocross?\nFor those new to the sport you may be asking ‘What is Cyclocross?’ Although cyclocross shares some aspects of both mountain biking and road racing\, it is it’s own sport and you can expect some of the following features including; being on & off the bike\, stepping over natural & artificial barriers\, quick entry & exiting of corners\, hard surfaces transitioning to soft\, and negotiating tricky off-camber sections. Don’t let this intimidate you though. Cyclocross if fun! \nThe length of the course is 2.5-3.5 km and is designed for the skinny-tired cyclocross bike\, not a full-suspension mountain bike (a regular mountain bike is tolerable\, just expect more friction). \nIf you have never tried CX racing but always wanted to give it a shot\, this could be your year! Catamount always has a supportive environment for those who are just getting introduced to the sport. Hungry for competition? Not to worry\, test your skills against some of the best athletes. Either way the atmosphere is always welcoming and fun for the whole family. \n\nCX SERIES RATES:\n\nAdult 5 Week Series: $100\nStudent/Senior 5 Week Series: $90\nFamily 5 Week Series: $160\n\nCX SINGLE NIGHT RATES:\n\n\nSingle Night Entries for Cyclocross can be done on BikeReg : $25/ person *Please note that registration online closes at 3:00pm on race days.*\nSingle Night Entries at Catamount’s Hub: $30 *Please note that registration closes 5:15pm on site on race nights*\n\nRegister Here!
URL:https://catamountoutdoor.org/events/2026-weekly-cyclocross/2026-09-30/
LOCATION:Catamount Outdoor Family Center\, 592 Governor Chittenden Road\, Williston\, VT\, United States
CATEGORIES:Cyclocross
ATTACH;FMTTYPE=image/jpeg:https://catamountoutdoor.org/wp-content/uploads/2025/08/9E612FC1-FC43-4CD5-A034-BFE288962031_1_105_c.jpeg
ORGANIZER;CN="Catamount Outdoor Family Center":MAILTO:thehub@catamountoutdoor.org
END:VEVENT
BEGIN:VEVENT
DTSTART;TZID=America/New_York:20260930T174500
DTEND;TZID=America/New_York:20260930T190000
DTSTAMP:20260422T224654
CREATED:20260406T194334Z
LAST-MODIFIED:20260406T200759Z
UID:10001957-1790790300-1790794800@catamountoutdoor.org
SUMMARY:2026 Youth Bike Club: MAD MAXERS
DESCRIPTION:Catamount OFC’s Cycling Club – 2026 Season\n\n\nMAD MAXERS: ~Ages 11-14 \n\n\n\n\n\n\n\n\n\n\n\n\n\nIntermediate to Advanced – Shredding with Purpose \nMad Maxer riders have solid trail experience and are ready to sharpen their skills and take on more challenging rides. Participants should be confident on green & blue trails\, and comfortable with moderate climbs\, descents\, and riding for longer durations. \nThis group focuses on more racing and technical riding: cornering technique\, riding at speed\, line choice\, and progression toward jumps\, manuals\, and other trail features\, all based on individual readiness. Riders will also learn about trail etiquette\, race dynamics\, and ride preparedness\, including basic on-trail repairs and navigation. \nCheck out our Cycling Club page to learn more!
URL:https://catamountoutdoor.org/events/2026-youth-bike-club-mad-maxers/2026-09-30/
LOCATION:Catamount Outdoor Family Center\, 592 Governor Chittenden Road\, Williston\, VT\, United States
CATEGORIES:Mountain Bike Events,Youth Events
ATTACH;FMTTYPE=image/jpeg:https://catamountoutdoor.org/wp-content/uploads/2025/10/014809CF-590A-49A1-90C1-6D319556F7D4_1_105_c-e1761244381255.jpeg
ORGANIZER;CN="Catamount Outdoor Family Center":MAILTO:thehub@catamountoutdoor.org
END:VEVENT
BEGIN:VEVENT
DTSTART;TZID=America/New_York:20261004T100000
DTEND;TZID=America/New_York:20261004T120000
DTSTAMP:20260422T224654
CREATED:20251119T205648Z
LAST-MODIFIED:20251119T205947Z
UID:10001713-1791108000-1791115200@catamountoutdoor.org
SUMMARY:Fall Trail Work Series With Andy
DESCRIPTION:Get your hands dirty and feel good about it at Catamount!\nVolunteer your skills and time at our upcoming Sunday trail days and help us get our trails in tip top shape for winter adventures. \n\nOctober 4th\, 11th\, 18th and 25th\nNovember 1st\n\nContact our Trail Manager Andy with questions and get ready for lots of fun projects this spring.
URL:https://catamountoutdoor.org/events/fall-trail-work-series-with-andy-3/2026-10-04/
LOCATION:Catamount Outdoor Family Center\, 592 Governor Chittenden Road\, Williston\, VT\, United States
ATTACH;FMTTYPE=image/jpeg:https://catamountoutdoor.org/wp-content/uploads/2025/11/51716F17-B502-4043-BE5E-1C66085C2065.jpeg
ORGANIZER;CN="Catamount Outdoor Family Center":MAILTO:thehub@catamountoutdoor.org
END:VEVENT
BEGIN:VEVENT
DTSTART;TZID=America/New_York:20261007T173000
DTEND;TZID=America/New_York:20261007T183000
DTSTAMP:20260422T224654
CREATED:20251119T204227Z
LAST-MODIFIED:20251119T204227Z
UID:10001640-1791394200-1791397800@catamountoutdoor.org
SUMMARY:2026 Weekly Cyclocross!
DESCRIPTION:Join us for our 5 week cyclocross series this fall.\n\n2025 CX Wednesday Dates (Registration coming summer 2026)\n\n\n\nWeek 1: September 9th @5:30pm\nWeek 2: September 16th @5:30pm\nWeek 3: September 23rd @5:30pm\nWeek 4: September 30th @5:30pm\nWeek 5: October 7th @5:30pm & End of Season Celebration!\n\n\n\nCancellation Policy: Any series cancellations must be made prior to August 15th in order to receive a refund\, minus a $50 administrative fee. Any cancellations received after August 15th but before September 1st are eligible for a 50% refund only. Cancellations made after September 1st will not be eligible for any refund. Any single-night entries are non-refundable at the time of purchase. Should Catamount OFC need to cancel a race for any reason\, single-night entries will be carried over to the following race night.\n\nWhat is Cyclocross?\nFor those new to the sport you may be asking ‘What is Cyclocross?’ Although cyclocross shares some aspects of both mountain biking and road racing\, it is it’s own sport and you can expect some of the following features including; being on & off the bike\, stepping over natural & artificial barriers\, quick entry & exiting of corners\, hard surfaces transitioning to soft\, and negotiating tricky off-camber sections. Don’t let this intimidate you though. Cyclocross if fun! \nThe length of the course is 2.5-3.5 km and is designed for the skinny-tired cyclocross bike\, not a full-suspension mountain bike (a regular mountain bike is tolerable\, just expect more friction). \nIf you have never tried CX racing but always wanted to give it a shot\, this could be your year! Catamount always has a supportive environment for those who are just getting introduced to the sport. Hungry for competition? Not to worry\, test your skills against some of the best athletes. Either way the atmosphere is always welcoming and fun for the whole family. \n\nCX SERIES RATES:\n\nAdult 5 Week Series: $100\nStudent/Senior 5 Week Series: $90\nFamily 5 Week Series: $160\n\nCX SINGLE NIGHT RATES:\n\n\nSingle Night Entries for Cyclocross can be done on BikeReg : $25/ person *Please note that registration online closes at 3:00pm on race days.*\nSingle Night Entries at Catamount’s Hub: $30 *Please note that registration closes 5:15pm on site on race nights*\n\nRegister Here!
URL:https://catamountoutdoor.org/events/2026-weekly-cyclocross/2026-10-07/
LOCATION:Catamount Outdoor Family Center\, 592 Governor Chittenden Road\, Williston\, VT\, United States
CATEGORIES:Cyclocross
ATTACH;FMTTYPE=image/jpeg:https://catamountoutdoor.org/wp-content/uploads/2025/08/9E612FC1-FC43-4CD5-A034-BFE288962031_1_105_c.jpeg
ORGANIZER;CN="Catamount Outdoor Family Center":MAILTO:thehub@catamountoutdoor.org
END:VEVENT
BEGIN:VEVENT
DTSTART;TZID=America/New_York:20261011T100000
DTEND;TZID=America/New_York:20261011T120000
DTSTAMP:20260422T224654
CREATED:20251119T205648Z
LAST-MODIFIED:20251119T205947Z
UID:10001714-1791712800-1791720000@catamountoutdoor.org
SUMMARY:Fall Trail Work Series With Andy
DESCRIPTION:Get your hands dirty and feel good about it at Catamount!\nVolunteer your skills and time at our upcoming Sunday trail days and help us get our trails in tip top shape for winter adventures. \n\nOctober 4th\, 11th\, 18th and 25th\nNovember 1st\n\nContact our Trail Manager Andy with questions and get ready for lots of fun projects this spring.
URL:https://catamountoutdoor.org/events/fall-trail-work-series-with-andy-3/2026-10-11/
LOCATION:Catamount Outdoor Family Center\, 592 Governor Chittenden Road\, Williston\, VT\, United States
ATTACH;FMTTYPE=image/jpeg:https://catamountoutdoor.org/wp-content/uploads/2025/11/51716F17-B502-4043-BE5E-1C66085C2065.jpeg
ORGANIZER;CN="Catamount Outdoor Family Center":MAILTO:thehub@catamountoutdoor.org
END:VEVENT
BEGIN:VEVENT
DTSTART;TZID=America/New_York:20261018T100000
DTEND;TZID=America/New_York:20261018T120000
DTSTAMP:20260422T224654
CREATED:20251119T205648Z
LAST-MODIFIED:20251119T205947Z
UID:10001715-1792317600-1792324800@catamountoutdoor.org
SUMMARY:Fall Trail Work Series With Andy
DESCRIPTION:Get your hands dirty and feel good about it at Catamount!\nVolunteer your skills and time at our upcoming Sunday trail days and help us get our trails in tip top shape for winter adventures. \n\nOctober 4th\, 11th\, 18th and 25th\nNovember 1st\n\nContact our Trail Manager Andy with questions and get ready for lots of fun projects this spring.
URL:https://catamountoutdoor.org/events/fall-trail-work-series-with-andy-3/2026-10-18/
LOCATION:Catamount Outdoor Family Center\, 592 Governor Chittenden Road\, Williston\, VT\, United States
ATTACH;FMTTYPE=image/jpeg:https://catamountoutdoor.org/wp-content/uploads/2025/11/51716F17-B502-4043-BE5E-1C66085C2065.jpeg
ORGANIZER;CN="Catamount Outdoor Family Center":MAILTO:thehub@catamountoutdoor.org
END:VEVENT
BEGIN:VEVENT
DTSTART;TZID=America/New_York:20261025T100000
DTEND;TZID=America/New_York:20261025T120000
DTSTAMP:20260422T224654
CREATED:20251119T205648Z
LAST-MODIFIED:20251119T205947Z
UID:10001716-1792922400-1792929600@catamountoutdoor.org
SUMMARY:Fall Trail Work Series With Andy
DESCRIPTION:Get your hands dirty and feel good about it at Catamount!\nVolunteer your skills and time at our upcoming Sunday trail days and help us get our trails in tip top shape for winter adventures. \n\nOctober 4th\, 11th\, 18th and 25th\nNovember 1st\n\nContact our Trail Manager Andy with questions and get ready for lots of fun projects this spring.
URL:https://catamountoutdoor.org/events/fall-trail-work-series-with-andy-3/2026-10-25/
LOCATION:Catamount Outdoor Family Center\, 592 Governor Chittenden Road\, Williston\, VT\, United States
ATTACH;FMTTYPE=image/jpeg:https://catamountoutdoor.org/wp-content/uploads/2025/11/51716F17-B502-4043-BE5E-1C66085C2065.jpeg
ORGANIZER;CN="Catamount Outdoor Family Center":MAILTO:thehub@catamountoutdoor.org
END:VEVENT
BEGIN:VEVENT
DTSTART;TZID=America/New_York:20261101T100000
DTEND;TZID=America/New_York:20261101T120000
DTSTAMP:20260422T224654
CREATED:20251119T205648Z
LAST-MODIFIED:20251119T205947Z
UID:10001717-1793527200-1793534400@catamountoutdoor.org
SUMMARY:Fall Trail Work Series With Andy
DESCRIPTION:Get your hands dirty and feel good about it at Catamount!\nVolunteer your skills and time at our upcoming Sunday trail days and help us get our trails in tip top shape for winter adventures. \n\nOctober 4th\, 11th\, 18th and 25th\nNovember 1st\n\nContact our Trail Manager Andy with questions and get ready for lots of fun projects this spring.
URL:https://catamountoutdoor.org/events/fall-trail-work-series-with-andy-3/2026-11-01/
LOCATION:Catamount Outdoor Family Center\, 592 Governor Chittenden Road\, Williston\, VT\, United States
ATTACH;FMTTYPE=image/jpeg:https://catamountoutdoor.org/wp-content/uploads/2025/11/51716F17-B502-4043-BE5E-1C66085C2065.jpeg
ORGANIZER;CN="Catamount Outdoor Family Center":MAILTO:thehub@catamountoutdoor.org
END:VEVENT
END:VCALENDAR