BEGIN:VCALENDAR
VERSION:2.0
PRODID:-//Catamount Outdoor Family Center - ECPv6.15.20//NONSGML v1.0//EN
CALSCALE:GREGORIAN
METHOD:PUBLISH
X-WR-CALNAME:Catamount Outdoor Family Center
X-ORIGINAL-URL:https://catamountoutdoor.org
X-WR-CALDESC:Events for Catamount Outdoor Family Center
REFRESH-INTERVAL;VALUE=DURATION:PT1H
X-Robots-Tag:noindex
X-PUBLISHED-TTL:PT1H
BEGIN:VTIMEZONE
TZID:America/New_York
BEGIN:DAYLIGHT
TZOFFSETFROM:-0500
TZOFFSETTO:-0400
TZNAME:EDT
DTSTART:20240310T070000
END:DAYLIGHT
BEGIN:STANDARD
TZOFFSETFROM:-0400
TZOFFSETTO:-0500
TZNAME:EST
DTSTART:20241103T060000
END:STANDARD
BEGIN:DAYLIGHT
TZOFFSETFROM:-0500
TZOFFSETTO:-0400
TZNAME:EDT
DTSTART:20250309T070000
END:DAYLIGHT
BEGIN:STANDARD
TZOFFSETFROM:-0400
TZOFFSETTO:-0500
TZNAME:EST
DTSTART:20251102T060000
END:STANDARD
BEGIN:DAYLIGHT
TZOFFSETFROM:-0500
TZOFFSETTO:-0400
TZNAME:EDT
DTSTART:20260308T070000
END:DAYLIGHT
BEGIN:STANDARD
TZOFFSETFROM:-0400
TZOFFSETTO:-0500
TZNAME:EST
DTSTART:20261101T060000
END:STANDARD
END:VTIMEZONE
BEGIN:VEVENT
DTSTART;TZID=America/New_York:20251202T160000
DTEND;TZID=America/New_York:20251202T200000
DTSTAMP:20260420T012205
CREATED:20251020T194624Z
LAST-MODIFIED:20260309T161339Z
UID:10001444-1764691200-1764705600@catamountoutdoor.org
SUMMARY:Night Loop
DESCRIPTION:Experience the magic of winter nights at Catamount! Join us for Nordic skiing under the lights on our beautiful night loop\, open Tuesdays\, Wednesdays\, and Thursdays from 4:00 PM to 8:00 PM all winter long. \nWhether you’re out for a relaxed family ski\, some social laps with friends\, or a quick evening workout\, the lighted trails offer a welcoming winter adventure for all ages and abilities. \nBundle up\, bring your skis\, and enjoy the crisp night air and community spirit at Catamount! \nRental Hub will be closed for night ops.  \nCondition Dependent:If we’re not grooming (meaning there isn’t enough snow to pack)\, we will not be open for night operations. Thanks for understanding!
URL:https://catamountoutdoor.org/events/night-loop/2025-12-02/
LOCATION:Catamount Outdoor Family Center\, 592 Governor Chittenden Road\, Williston\, VT\, United States
ATTACH;FMTTYPE=image/jpeg:https://catamountoutdoor.org/wp-content/uploads/2025/10/C5562EE6-E511-4A86-9C8C-BE7D7BB11390_1_105_c-e1759514498519.jpeg
ORGANIZER;CN="Catamount Outdoor Family Center":MAILTO:thehub@catamountoutdoor.org
END:VEVENT
BEGIN:VEVENT
DTSTART;TZID=America/New_York:20251203T160000
DTEND;TZID=America/New_York:20251203T200000
DTSTAMP:20260420T012205
CREATED:20251020T194624Z
LAST-MODIFIED:20260309T161339Z
UID:10001445-1764777600-1764792000@catamountoutdoor.org
SUMMARY:Night Loop
DESCRIPTION:Experience the magic of winter nights at Catamount! Join us for Nordic skiing under the lights on our beautiful night loop\, open Tuesdays\, Wednesdays\, and Thursdays from 4:00 PM to 8:00 PM all winter long. \nWhether you’re out for a relaxed family ski\, some social laps with friends\, or a quick evening workout\, the lighted trails offer a welcoming winter adventure for all ages and abilities. \nBundle up\, bring your skis\, and enjoy the crisp night air and community spirit at Catamount! \nRental Hub will be closed for night ops.  \nCondition Dependent:If we’re not grooming (meaning there isn’t enough snow to pack)\, we will not be open for night operations. Thanks for understanding!
URL:https://catamountoutdoor.org/events/night-loop/2025-12-03/
LOCATION:Catamount Outdoor Family Center\, 592 Governor Chittenden Road\, Williston\, VT\, United States
ATTACH;FMTTYPE=image/jpeg:https://catamountoutdoor.org/wp-content/uploads/2025/10/C5562EE6-E511-4A86-9C8C-BE7D7BB11390_1_105_c-e1759514498519.jpeg
ORGANIZER;CN="Catamount Outdoor Family Center":MAILTO:thehub@catamountoutdoor.org
END:VEVENT
BEGIN:VEVENT
DTSTART;TZID=America/New_York:20251204T160000
DTEND;TZID=America/New_York:20251204T200000
DTSTAMP:20260420T012205
CREATED:20251020T194624Z
LAST-MODIFIED:20260309T161339Z
UID:10001446-1764864000-1764878400@catamountoutdoor.org
SUMMARY:Night Loop
DESCRIPTION:Experience the magic of winter nights at Catamount! Join us for Nordic skiing under the lights on our beautiful night loop\, open Tuesdays\, Wednesdays\, and Thursdays from 4:00 PM to 8:00 PM all winter long. \nWhether you’re out for a relaxed family ski\, some social laps with friends\, or a quick evening workout\, the lighted trails offer a welcoming winter adventure for all ages and abilities. \nBundle up\, bring your skis\, and enjoy the crisp night air and community spirit at Catamount! \nRental Hub will be closed for night ops.  \nCondition Dependent:If we’re not grooming (meaning there isn’t enough snow to pack)\, we will not be open for night operations. Thanks for understanding!
URL:https://catamountoutdoor.org/events/night-loop/2025-12-04/
LOCATION:Catamount Outdoor Family Center\, 592 Governor Chittenden Road\, Williston\, VT\, United States
ATTACH;FMTTYPE=image/jpeg:https://catamountoutdoor.org/wp-content/uploads/2025/10/C5562EE6-E511-4A86-9C8C-BE7D7BB11390_1_105_c-e1759514498519.jpeg
ORGANIZER;CN="Catamount Outdoor Family Center":MAILTO:thehub@catamountoutdoor.org
END:VEVENT
BEGIN:VEVENT
DTSTART;TZID=America/New_York:20251204T180000
DTEND;TZID=America/New_York:20251204T200000
DTSTAMP:20260420T012205
CREATED:20251020T193808Z
LAST-MODIFIED:20251205T164844Z
UID:10001376-1764871200-1764878400@catamountoutdoor.org
SUMMARY:Fat Thursdays - Fat Bike Social Ride 
DESCRIPTION:Join us every Thursday evening this winter for a fun and social Fat Bike Ride through the Catamount Community Forest with the Catamount Outdoor Family Center! \nStarting mid-December through mid-March (weather dependent)\, ride from 6:00 PM–8:00 PM with the Catamount Crew. Guided by experienced riders and often volunteer Board Members\, this is a great way to explore the trails\, meet other fat bikers\, learn more about Catamount OFC\, and stay active all winter long. \nAll are welcome! \nDetails: \n\nWhen: Thursdays\, 6:00 PM meet / 6:15 PM ride-out\nWhere: Catamount Outdoor Family Center parking lot Hub\nPace: InterMellow (social\, no-drop pace)\nLevel: Intermediate\nTerrain: Intermediate\nDuration: ~1.5–2 hours\nCost: Free for members; $15–$20 Day Membership for non-members (donations appreciated)\n\nWhat to Bring:Bike\, helmet\, headlamp or bike light (plus extra batteries)\, warm layers\, hand warmers\, water\, and snacks. \nWhat if we cancel?Check back here\, on our Facebook and Instagram Stories\, or on the Facebook event listing for updates. We’ll post cancellations by 4:00 PM whenever possible. \nFeedback:Help us improve our community rides—share your thoughts after the event!
URL:https://catamountoutdoor.org/events/fat-thursdays-fat-bike-social-ride/2025-12-04/
LOCATION:Catamount Outdoor Family Center\, 592 Governor Chittenden Road\, Williston\, VT\, United States
CATEGORIES:bike
ATTACH;FMTTYPE=image/png:https://catamountoutdoor.org/wp-content/uploads/2024/10/IMG_1950-e1729708512326.png
ORGANIZER;CN="Catamount Outdoor Family Center":MAILTO:thehub@catamountoutdoor.org
END:VEVENT
BEGIN:VEVENT
DTSTART;TZID=America/New_York:20251211T180000
DTEND;TZID=America/New_York:20251211T200000
DTSTAMP:20260420T012205
CREATED:20251020T193808Z
LAST-MODIFIED:20251205T164844Z
UID:10001377-1765476000-1765483200@catamountoutdoor.org
SUMMARY:Fat Thursdays - Fat Bike Social Ride 
DESCRIPTION:Join us every Thursday evening this winter for a fun and social Fat Bike Ride through the Catamount Community Forest with the Catamount Outdoor Family Center! \nStarting mid-December through mid-March (weather dependent)\, ride from 6:00 PM–8:00 PM with the Catamount Crew. Guided by experienced riders and often volunteer Board Members\, this is a great way to explore the trails\, meet other fat bikers\, learn more about Catamount OFC\, and stay active all winter long. \nAll are welcome! \nDetails: \n\nWhen: Thursdays\, 6:00 PM meet / 6:15 PM ride-out\nWhere: Catamount Outdoor Family Center parking lot Hub\nPace: InterMellow (social\, no-drop pace)\nLevel: Intermediate\nTerrain: Intermediate\nDuration: ~1.5–2 hours\nCost: Free for members; $15–$20 Day Membership for non-members (donations appreciated)\n\nWhat to Bring:Bike\, helmet\, headlamp or bike light (plus extra batteries)\, warm layers\, hand warmers\, water\, and snacks. \nWhat if we cancel?Check back here\, on our Facebook and Instagram Stories\, or on the Facebook event listing for updates. We’ll post cancellations by 4:00 PM whenever possible. \nFeedback:Help us improve our community rides—share your thoughts after the event!
URL:https://catamountoutdoor.org/events/fat-thursdays-fat-bike-social-ride/2025-12-11/
LOCATION:Catamount Outdoor Family Center\, 592 Governor Chittenden Road\, Williston\, VT\, United States
CATEGORIES:bike
ATTACH;FMTTYPE=image/png:https://catamountoutdoor.org/wp-content/uploads/2024/10/IMG_1950-e1729708512326.png
ORGANIZER;CN="Catamount Outdoor Family Center":MAILTO:thehub@catamountoutdoor.org
END:VEVENT
BEGIN:VEVENT
DTSTART;TZID=America/New_York:20251216T160000
DTEND;TZID=America/New_York:20251216T200000
DTSTAMP:20260420T012205
CREATED:20251020T194624Z
LAST-MODIFIED:20260309T161339Z
UID:10001450-1765900800-1765915200@catamountoutdoor.org
SUMMARY:Night Loop
DESCRIPTION:Experience the magic of winter nights at Catamount! Join us for Nordic skiing under the lights on our beautiful night loop\, open Tuesdays\, Wednesdays\, and Thursdays from 4:00 PM to 8:00 PM all winter long. \nWhether you’re out for a relaxed family ski\, some social laps with friends\, or a quick evening workout\, the lighted trails offer a welcoming winter adventure for all ages and abilities. \nBundle up\, bring your skis\, and enjoy the crisp night air and community spirit at Catamount! \nRental Hub will be closed for night ops.  \nCondition Dependent:If we’re not grooming (meaning there isn’t enough snow to pack)\, we will not be open for night operations. Thanks for understanding!
URL:https://catamountoutdoor.org/events/night-loop/2025-12-16/
LOCATION:Catamount Outdoor Family Center\, 592 Governor Chittenden Road\, Williston\, VT\, United States
ATTACH;FMTTYPE=image/jpeg:https://catamountoutdoor.org/wp-content/uploads/2025/10/C5562EE6-E511-4A86-9C8C-BE7D7BB11390_1_105_c-e1759514498519.jpeg
ORGANIZER;CN="Catamount Outdoor Family Center":MAILTO:thehub@catamountoutdoor.org
END:VEVENT
BEGIN:VEVENT
DTSTART;TZID=America/New_York:20251217T160000
DTEND;TZID=America/New_York:20251217T200000
DTSTAMP:20260420T012205
CREATED:20251020T194624Z
LAST-MODIFIED:20260309T161339Z
UID:10001451-1765987200-1766001600@catamountoutdoor.org
SUMMARY:Night Loop
DESCRIPTION:Experience the magic of winter nights at Catamount! Join us for Nordic skiing under the lights on our beautiful night loop\, open Tuesdays\, Wednesdays\, and Thursdays from 4:00 PM to 8:00 PM all winter long. \nWhether you’re out for a relaxed family ski\, some social laps with friends\, or a quick evening workout\, the lighted trails offer a welcoming winter adventure for all ages and abilities. \nBundle up\, bring your skis\, and enjoy the crisp night air and community spirit at Catamount! \nRental Hub will be closed for night ops.  \nCondition Dependent:If we’re not grooming (meaning there isn’t enough snow to pack)\, we will not be open for night operations. Thanks for understanding!
URL:https://catamountoutdoor.org/events/night-loop/2025-12-17/
LOCATION:Catamount Outdoor Family Center\, 592 Governor Chittenden Road\, Williston\, VT\, United States
ATTACH;FMTTYPE=image/jpeg:https://catamountoutdoor.org/wp-content/uploads/2025/10/C5562EE6-E511-4A86-9C8C-BE7D7BB11390_1_105_c-e1759514498519.jpeg
ORGANIZER;CN="Catamount Outdoor Family Center":MAILTO:thehub@catamountoutdoor.org
END:VEVENT
BEGIN:VEVENT
DTSTART;TZID=America/New_York:20251218T160000
DTEND;TZID=America/New_York:20251218T200000
DTSTAMP:20260420T012205
CREATED:20251215T210602Z
LAST-MODIFIED:20251215T211546Z
UID:10001452-1766073600-1766088000@catamountoutdoor.org
SUMMARY:Night Loop CANCELED
DESCRIPTION:CANCELED – This event has been canceled due to weather conditions.  \nExperience the magic of winter nights at Catamount! Join us for Nordic skiing under the lights on our beautiful night loop\, open Tuesdays\, Wednesdays\, and Thursdays from 4:00 PM to 8:00 PM all winter long. \nWhether you’re out for a relaxed family ski\, some social laps with friends\, or a quick evening workout\, the lighted trails offer a welcoming winter adventure for all ages and abilities. \nBundle up\, bring your skis\, and enjoy the crisp night air and community spirit at Catamount! \nCondition Dependent:If we’re not grooming (meaning there isn’t enough snow to pack)\, we will not be open for night operations. Thanks for understanding!
URL:https://catamountoutdoor.org/events/night-loop-2/
LOCATION:Catamount Outdoor Family Center\, 592 Governor Chittenden Road\, Williston\, VT\, United States
ATTACH;FMTTYPE=image/jpeg:https://catamountoutdoor.org/wp-content/uploads/2025/10/C5562EE6-E511-4A86-9C8C-BE7D7BB11390_1_105_c-e1759514498519.jpeg
ORGANIZER;CN="Catamount Outdoor Family Center":MAILTO:thehub@catamountoutdoor.org
END:VEVENT
BEGIN:VEVENT
DTSTART;TZID=America/New_York:20251218T180000
DTEND;TZID=America/New_York:20251218T200000
DTSTAMP:20260420T012205
CREATED:20251020T193808Z
LAST-MODIFIED:20251205T164844Z
UID:10001812-1766080800-1766088000@catamountoutdoor.org
SUMMARY:Fat Thursdays - Fat Bike Social Ride 
DESCRIPTION:Join us every Thursday evening this winter for a fun and social Fat Bike Ride through the Catamount Community Forest with the Catamount Outdoor Family Center! \nStarting mid-December through mid-March (weather dependent)\, ride from 6:00 PM–8:00 PM with the Catamount Crew. Guided by experienced riders and often volunteer Board Members\, this is a great way to explore the trails\, meet other fat bikers\, learn more about Catamount OFC\, and stay active all winter long. \nAll are welcome! \nDetails: \n\nWhen: Thursdays\, 6:00 PM meet / 6:15 PM ride-out\nWhere: Catamount Outdoor Family Center parking lot Hub\nPace: InterMellow (social\, no-drop pace)\nLevel: Intermediate\nTerrain: Intermediate\nDuration: ~1.5–2 hours\nCost: Free for members; $15–$20 Day Membership for non-members (donations appreciated)\n\nWhat to Bring:Bike\, helmet\, headlamp or bike light (plus extra batteries)\, warm layers\, hand warmers\, water\, and snacks. \nWhat if we cancel?Check back here\, on our Facebook and Instagram Stories\, or on the Facebook event listing for updates. We’ll post cancellations by 4:00 PM whenever possible. \nFeedback:Help us improve our community rides—share your thoughts after the event!
URL:https://catamountoutdoor.org/events/fat-thursdays-fat-bike-social-ride/2025-12-18/
LOCATION:Catamount Outdoor Family Center\, 592 Governor Chittenden Road\, Williston\, VT\, United States
CATEGORIES:bike
ATTACH;FMTTYPE=image/png:https://catamountoutdoor.org/wp-content/uploads/2024/10/IMG_1950-e1729708512326.png
ORGANIZER;CN="Catamount Outdoor Family Center":MAILTO:thehub@catamountoutdoor.org
END:VEVENT
BEGIN:VEVENT
DTSTART;TZID=America/New_York:20251218T180000
DTEND;TZID=America/New_York:20251218T200000
DTSTAMP:20260420T012205
CREATED:20251215T211324Z
LAST-MODIFIED:20251215T211325Z
UID:10001378-1766080800-1766088000@catamountoutdoor.org
SUMMARY:Fat Thursdays - Fat Bike Social Ride CANCELLED
DESCRIPTION:This event has been canceled due to weather conditions. No ride 12/25. We’ll see you in January! \nJoin us every Thursday evening this winter for a fun and social Fat Bike Ride through the Catamount Community Forest with the Catamount Outdoor Family Center! \nStarting mid-December through mid-March (weather dependent)\, ride from 6:00 PM–8:00 PM with the Catamount Crew. Guided by experienced riders and often volunteer Board Members\, this is a great way to explore the trails\, meet other fat bikers\, learn more about Catamount OFC\, and stay active all winter long. \nAll are welcome! \nDetails: \n\nWhen: Thursdays\, 6:00 PM meet / 6:15 PM ride-out\nWhere: Catamount Outdoor Family Center parking lot Hub\nPace: InterMellow (social\, no-drop pace)\nLevel: Intermediate\nTerrain: Intermediate\nDuration: ~1.5–2 hours\nCost: Free for members; $15–$20 Day Membership for non-members (donations appreciated)\n\nWhat to Bring:Bike\, helmet\, headlamp or bike light (plus extra batteries)\, warm layers\, hand warmers\, water\, and snacks. \nWhat if we cancel?Check back here\, on our Facebook and Instagram Stories\, or on the Facebook event listing for updates. We’ll post cancellations by 4:00 PM whenever possible. \nFeedback:Help us improve our community rides—share your thoughts after the event!
URL:https://catamountoutdoor.org/events/fat-thursdays-fat-bike-social-ride-2/
LOCATION:Catamount Outdoor Family Center\, 592 Governor Chittenden Road\, Williston\, VT\, United States
CATEGORIES:bike
ATTACH;FMTTYPE=image/png:https://catamountoutdoor.org/wp-content/uploads/2024/10/IMG_1950-e1729708512326.png
ORGANIZER;CN="Catamount Outdoor Family Center":MAILTO:thehub@catamountoutdoor.org
END:VEVENT
BEGIN:VEVENT
DTSTART;TZID=America/New_York:20251223T160000
DTEND;TZID=America/New_York:20251223T200000
DTSTAMP:20260420T012205
CREATED:20251020T194624Z
LAST-MODIFIED:20260309T161339Z
UID:10001453-1766505600-1766520000@catamountoutdoor.org
SUMMARY:Night Loop
DESCRIPTION:Experience the magic of winter nights at Catamount! Join us for Nordic skiing under the lights on our beautiful night loop\, open Tuesdays\, Wednesdays\, and Thursdays from 4:00 PM to 8:00 PM all winter long. \nWhether you’re out for a relaxed family ski\, some social laps with friends\, or a quick evening workout\, the lighted trails offer a welcoming winter adventure for all ages and abilities. \nBundle up\, bring your skis\, and enjoy the crisp night air and community spirit at Catamount! \nRental Hub will be closed for night ops.  \nCondition Dependent:If we’re not grooming (meaning there isn’t enough snow to pack)\, we will not be open for night operations. Thanks for understanding!
URL:https://catamountoutdoor.org/events/night-loop/2025-12-23/
LOCATION:Catamount Outdoor Family Center\, 592 Governor Chittenden Road\, Williston\, VT\, United States
ATTACH;FMTTYPE=image/jpeg:https://catamountoutdoor.org/wp-content/uploads/2025/10/C5562EE6-E511-4A86-9C8C-BE7D7BB11390_1_105_c-e1759514498519.jpeg
ORGANIZER;CN="Catamount Outdoor Family Center":MAILTO:thehub@catamountoutdoor.org
END:VEVENT
BEGIN:VEVENT
DTSTART;TZID=America/New_York:20251224T160000
DTEND;TZID=America/New_York:20251224T200000
DTSTAMP:20260420T012205
CREATED:20251020T194624Z
LAST-MODIFIED:20260309T161339Z
UID:10001454-1766592000-1766606400@catamountoutdoor.org
SUMMARY:Night Loop
DESCRIPTION:Experience the magic of winter nights at Catamount! Join us for Nordic skiing under the lights on our beautiful night loop\, open Tuesdays\, Wednesdays\, and Thursdays from 4:00 PM to 8:00 PM all winter long. \nWhether you’re out for a relaxed family ski\, some social laps with friends\, or a quick evening workout\, the lighted trails offer a welcoming winter adventure for all ages and abilities. \nBundle up\, bring your skis\, and enjoy the crisp night air and community spirit at Catamount! \nRental Hub will be closed for night ops.  \nCondition Dependent:If we’re not grooming (meaning there isn’t enough snow to pack)\, we will not be open for night operations. Thanks for understanding!
URL:https://catamountoutdoor.org/events/night-loop/2025-12-24/
LOCATION:Catamount Outdoor Family Center\, 592 Governor Chittenden Road\, Williston\, VT\, United States
ATTACH;FMTTYPE=image/jpeg:https://catamountoutdoor.org/wp-content/uploads/2025/10/C5562EE6-E511-4A86-9C8C-BE7D7BB11390_1_105_c-e1759514498519.jpeg
ORGANIZER;CN="Catamount Outdoor Family Center":MAILTO:thehub@catamountoutdoor.org
END:VEVENT
BEGIN:VEVENT
DTSTART;TZID=America/New_York:20251225T160000
DTEND;TZID=America/New_York:20251225T200000
DTSTAMP:20260420T012205
CREATED:20251020T194624Z
LAST-MODIFIED:20260309T161339Z
UID:10001455-1766678400-1766692800@catamountoutdoor.org
SUMMARY:Night Loop
DESCRIPTION:Experience the magic of winter nights at Catamount! Join us for Nordic skiing under the lights on our beautiful night loop\, open Tuesdays\, Wednesdays\, and Thursdays from 4:00 PM to 8:00 PM all winter long. \nWhether you’re out for a relaxed family ski\, some social laps with friends\, or a quick evening workout\, the lighted trails offer a welcoming winter adventure for all ages and abilities. \nBundle up\, bring your skis\, and enjoy the crisp night air and community spirit at Catamount! \nRental Hub will be closed for night ops.  \nCondition Dependent:If we’re not grooming (meaning there isn’t enough snow to pack)\, we will not be open for night operations. Thanks for understanding!
URL:https://catamountoutdoor.org/events/night-loop/2025-12-25/
LOCATION:Catamount Outdoor Family Center\, 592 Governor Chittenden Road\, Williston\, VT\, United States
ATTACH;FMTTYPE=image/jpeg:https://catamountoutdoor.org/wp-content/uploads/2025/10/C5562EE6-E511-4A86-9C8C-BE7D7BB11390_1_105_c-e1759514498519.jpeg
ORGANIZER;CN="Catamount Outdoor Family Center":MAILTO:thehub@catamountoutdoor.org
END:VEVENT
BEGIN:VEVENT
DTSTART;TZID=America/New_York:20251225T180000
DTEND;TZID=America/New_York:20251225T200000
DTSTAMP:20260420T012205
CREATED:20251020T193808Z
LAST-MODIFIED:20251205T164844Z
UID:10001813-1766685600-1766692800@catamountoutdoor.org
SUMMARY:Fat Thursdays - Fat Bike Social Ride 
DESCRIPTION:Join us every Thursday evening this winter for a fun and social Fat Bike Ride through the Catamount Community Forest with the Catamount Outdoor Family Center! \nStarting mid-December through mid-March (weather dependent)\, ride from 6:00 PM–8:00 PM with the Catamount Crew. Guided by experienced riders and often volunteer Board Members\, this is a great way to explore the trails\, meet other fat bikers\, learn more about Catamount OFC\, and stay active all winter long. \nAll are welcome! \nDetails: \n\nWhen: Thursdays\, 6:00 PM meet / 6:15 PM ride-out\nWhere: Catamount Outdoor Family Center parking lot Hub\nPace: InterMellow (social\, no-drop pace)\nLevel: Intermediate\nTerrain: Intermediate\nDuration: ~1.5–2 hours\nCost: Free for members; $15–$20 Day Membership for non-members (donations appreciated)\n\nWhat to Bring:Bike\, helmet\, headlamp or bike light (plus extra batteries)\, warm layers\, hand warmers\, water\, and snacks. \nWhat if we cancel?Check back here\, on our Facebook and Instagram Stories\, or on the Facebook event listing for updates. We’ll post cancellations by 4:00 PM whenever possible. \nFeedback:Help us improve our community rides—share your thoughts after the event!
URL:https://catamountoutdoor.org/events/fat-thursdays-fat-bike-social-ride/2025-12-25/
LOCATION:Catamount Outdoor Family Center\, 592 Governor Chittenden Road\, Williston\, VT\, United States
CATEGORIES:bike
ATTACH;FMTTYPE=image/png:https://catamountoutdoor.org/wp-content/uploads/2024/10/IMG_1950-e1729708512326.png
ORGANIZER;CN="Catamount Outdoor Family Center":MAILTO:thehub@catamountoutdoor.org
END:VEVENT
BEGIN:VEVENT
DTSTART;TZID=America/New_York:20251230T160000
DTEND;TZID=America/New_York:20251230T200000
DTSTAMP:20260420T012205
CREATED:20251020T194624Z
LAST-MODIFIED:20260309T161339Z
UID:10001456-1767110400-1767124800@catamountoutdoor.org
SUMMARY:Night Loop
DESCRIPTION:Experience the magic of winter nights at Catamount! Join us for Nordic skiing under the lights on our beautiful night loop\, open Tuesdays\, Wednesdays\, and Thursdays from 4:00 PM to 8:00 PM all winter long. \nWhether you’re out for a relaxed family ski\, some social laps with friends\, or a quick evening workout\, the lighted trails offer a welcoming winter adventure for all ages and abilities. \nBundle up\, bring your skis\, and enjoy the crisp night air and community spirit at Catamount! \nRental Hub will be closed for night ops.  \nCondition Dependent:If we’re not grooming (meaning there isn’t enough snow to pack)\, we will not be open for night operations. Thanks for understanding!
URL:https://catamountoutdoor.org/events/night-loop/2025-12-30/
LOCATION:Catamount Outdoor Family Center\, 592 Governor Chittenden Road\, Williston\, VT\, United States
ATTACH;FMTTYPE=image/jpeg:https://catamountoutdoor.org/wp-content/uploads/2025/10/C5562EE6-E511-4A86-9C8C-BE7D7BB11390_1_105_c-e1759514498519.jpeg
ORGANIZER;CN="Catamount Outdoor Family Center":MAILTO:thehub@catamountoutdoor.org
END:VEVENT
BEGIN:VEVENT
DTSTART;TZID=America/New_York:20251231T160000
DTEND;TZID=America/New_York:20251231T200000
DTSTAMP:20260420T012205
CREATED:20251020T194624Z
LAST-MODIFIED:20260309T161339Z
UID:10001457-1767196800-1767211200@catamountoutdoor.org
SUMMARY:Night Loop
DESCRIPTION:Experience the magic of winter nights at Catamount! Join us for Nordic skiing under the lights on our beautiful night loop\, open Tuesdays\, Wednesdays\, and Thursdays from 4:00 PM to 8:00 PM all winter long. \nWhether you’re out for a relaxed family ski\, some social laps with friends\, or a quick evening workout\, the lighted trails offer a welcoming winter adventure for all ages and abilities. \nBundle up\, bring your skis\, and enjoy the crisp night air and community spirit at Catamount! \nRental Hub will be closed for night ops.  \nCondition Dependent:If we’re not grooming (meaning there isn’t enough snow to pack)\, we will not be open for night operations. Thanks for understanding!
URL:https://catamountoutdoor.org/events/night-loop/2025-12-31/
LOCATION:Catamount Outdoor Family Center\, 592 Governor Chittenden Road\, Williston\, VT\, United States
ATTACH;FMTTYPE=image/jpeg:https://catamountoutdoor.org/wp-content/uploads/2025/10/C5562EE6-E511-4A86-9C8C-BE7D7BB11390_1_105_c-e1759514498519.jpeg
ORGANIZER;CN="Catamount Outdoor Family Center":MAILTO:thehub@catamountoutdoor.org
END:VEVENT
END:VCALENDAR