BEGIN:VCALENDAR
VERSION:2.0
PRODID:-//Catamount Outdoor Family Center - ECPv6.15.20//NONSGML v1.0//EN
CALSCALE:GREGORIAN
METHOD:PUBLISH
X-WR-CALNAME:Catamount Outdoor Family Center
X-ORIGINAL-URL:https://catamountoutdoor.org
X-WR-CALDESC:Events for Catamount Outdoor Family Center
REFRESH-INTERVAL;VALUE=DURATION:PT1H
X-Robots-Tag:noindex
X-PUBLISHED-TTL:PT1H
BEGIN:VTIMEZONE
TZID:America/New_York
BEGIN:DAYLIGHT
TZOFFSETFROM:-0500
TZOFFSETTO:-0400
TZNAME:EDT
DTSTART:20240310T070000
END:DAYLIGHT
BEGIN:STANDARD
TZOFFSETFROM:-0400
TZOFFSETTO:-0500
TZNAME:EST
DTSTART:20241103T060000
END:STANDARD
BEGIN:DAYLIGHT
TZOFFSETFROM:-0500
TZOFFSETTO:-0400
TZNAME:EDT
DTSTART:20250309T070000
END:DAYLIGHT
BEGIN:STANDARD
TZOFFSETFROM:-0400
TZOFFSETTO:-0500
TZNAME:EST
DTSTART:20251102T060000
END:STANDARD
BEGIN:DAYLIGHT
TZOFFSETFROM:-0500
TZOFFSETTO:-0400
TZNAME:EDT
DTSTART:20260308T070000
END:DAYLIGHT
BEGIN:STANDARD
TZOFFSETFROM:-0400
TZOFFSETTO:-0500
TZNAME:EST
DTSTART:20261101T060000
END:STANDARD
END:VTIMEZONE
BEGIN:VEVENT
DTSTART;TZID=America/New_York:20251101T060000
DTEND;TZID=America/New_York:20251102T180000
DTSTAMP:20260422T073043
CREATED:20250812T193507Z
LAST-MODIFIED:20250812T193507Z
UID:10001359-1761976800-1762106400@catamountoutdoor.org
SUMMARY:RUTFest 2025
DESCRIPTION:“Welcome to the FIFTH annual RUTFest (Richmond Ultra Trail Festival) – a weekend devoted to running and hiking local trails with our community. This 36-hour “race” includes two different 3-4 mile trail loops at Catamount Outdoor Family Center\, with gorgeous views of Camel’s Hump and Mt. Mansfield. These two loops are run on repeat\, whenever you want. \nThis will be a relaxed\, low-key\, adventure run\, for the community and not for competition. This is the weekend to run (or walk) further than you ever have before. \nEntry fee- donation based. We want this to be an inclusive event and don’t want money to keep anyone from enjoying the trails\, the event\, or the community. This year\, all profit after event fees (venue\, insurance\, materials etc.) will be split between the Catamount Outdoor Family Center and Vermont Huts F.O.R.E.S.T Program.\nHow much should you donate? We’ve got a variety of suggestions. Donate what feels fair to you for a 36-hour event (+1 bonus hour for Daylight Savings Time!). There are add-on donation options if you’d like to donate more to the organization of your choice. If a donation is out of your capability\, please email premlinskey@gmail.com and we’ll get you set up with a free voucher. \nRegistered participants will receive event updates and info by email. All participants will be asked to sign up for a 1-hour volunteer shift at the aid station as well as donate a snack to the aid station. \nRunners check in at the main aid station to run laps whenever they would like during the event. The loops alternate on the north and south side of Catamount\, about 3 and 4 miles respectively. You are free to come and go as you want all weekend long. Please check-in with a volunteer when you leave for safety reasons. \nThinking of running 100 miles? We have sweet buckles made that you can purchase after you finish. \nKickoff @ 6AM Saturday Nov. 1. Check-in any time\, all weekend. Closing @ 6PM Sunday Nov. 2. \nCharities \nVermont Huts & Trails is a 501(c)(3) nonprofit; our mission is to foster a deeper appreciation of our natural environment and strengthen Vermont’s communities by providing enriching and immersive outdoor experiences for all. \nFostering Outdoor Recreation\, Education\, Sustainability\, and Teamwork\, the FOREST Program aims to get more people outside more often. As our mission states\, we aim to create an enriching and immersive outdoor experience for everyone\, and FOREST is doing just that. \nVHT partners with other nonprofits\, schools\, and communities to actively invite underserved youth and other historically marginalized communities onto the trails and into our huts entirely free of charge. We provide transportation\, gear\, and food along with an outdoor educator and curriculum tailored to suit the participants. The program aims to introduce students and those who have been previously excluded to outdoor recreation in a safe and welcoming way\, encouraging lifelong participation and stewardship of their natural environment. \nQUESTIONS? Email richmondtrailrunners@gmail.com for more information or to stay tuned on weekly club runs. \nFOLLOW Richmond Trail Running Club on Facebook and Instagram!” \n\nMore information here!
URL:https://catamountoutdoor.org/events/rutfest-2025/
LOCATION:Catamount Outdoor Family Center\, 592 Governor Chittenden Road\, Williston\, VT\, United States
ATTACH;FMTTYPE=image/jpeg:https://catamountoutdoor.org/wp-content/uploads/2025/03/4806331A-7DCE-4C13-A304-C3CE84B56F3A_1_105_c.jpeg
ORGANIZER;CN="Richmond Trail Running Club":MAILTO:richmondtrailrunners@gmail.com
END:VEVENT
BEGIN:VEVENT
DTSTART;TZID=America/New_York:20251102T100000
DTEND;TZID=America/New_York:20251102T120000
DTSTAMP:20260422T073043
CREATED:20250812T192632Z
LAST-MODIFIED:20250812T192632Z
UID:10001358-1762077600-1762084800@catamountoutdoor.org
SUMMARY:Fall Trail Work Series With Andy
DESCRIPTION:Get your hands dirty and feel good about it at Catamount!\nVolunteer your skills and time at our upcoming Sunday trail days and help us get our trails in tip top shape for winter adventures. \n\nOctober 5th\, 12th\, 19th and 26th of 2024\nNovember 2nd\n\nContact our Trail Manager Andy with questions and get ready for lots of fun projects this spring.
URL:https://catamountoutdoor.org/events/fall-trail-work-series-with-andy-2/2025-11-02/
LOCATION:Catamount Outdoor Family Center\, 592 Governor Chittenden Road\, Williston\, VT\, United States
ATTACH;FMTTYPE=image/jpeg:https://catamountoutdoor.org/wp-content/uploads/2025/08/832E431A-89CA-46B8-A91F-E943E82B788A_1_105_c.jpeg
ORGANIZER;CN="Catamount Outdoor Family Center":MAILTO:thehub@catamountoutdoor.org
END:VEVENT
END:VCALENDAR