BEGIN:VCALENDAR
VERSION:2.0
PRODID:-//Catamount Outdoor Family Center - ECPv6.15.20//NONSGML v1.0//EN
CALSCALE:GREGORIAN
METHOD:PUBLISH
X-ORIGINAL-URL:https://catamountoutdoor.org
X-WR-CALDESC:Events for Catamount Outdoor Family Center
REFRESH-INTERVAL;VALUE=DURATION:PT1H
X-Robots-Tag:noindex
X-PUBLISHED-TTL:PT1H
BEGIN:VTIMEZONE
TZID:America/New_York
BEGIN:DAYLIGHT
TZOFFSETFROM:-0500
TZOFFSETTO:-0400
TZNAME:EDT
DTSTART:20240310T070000
END:DAYLIGHT
BEGIN:STANDARD
TZOFFSETFROM:-0400
TZOFFSETTO:-0500
TZNAME:EST
DTSTART:20241103T060000
END:STANDARD
BEGIN:DAYLIGHT
TZOFFSETFROM:-0500
TZOFFSETTO:-0400
TZNAME:EDT
DTSTART:20250309T070000
END:DAYLIGHT
BEGIN:STANDARD
TZOFFSETFROM:-0400
TZOFFSETTO:-0500
TZNAME:EST
DTSTART:20251102T060000
END:STANDARD
BEGIN:DAYLIGHT
TZOFFSETFROM:-0500
TZOFFSETTO:-0400
TZNAME:EDT
DTSTART:20260308T070000
END:DAYLIGHT
BEGIN:STANDARD
TZOFFSETFROM:-0400
TZOFFSETTO:-0500
TZNAME:EST
DTSTART:20261101T060000
END:STANDARD
END:VTIMEZONE
BEGIN:VEVENT
DTSTART;TZID=America/New_York:20250209T090000
DTEND;TZID=America/New_York:20250209T150000
DTSTAMP:20260425T072756
CREATED:20241212T212045Z
LAST-MODIFIED:20250207T225242Z
UID:10000901-1739091600-1739113200@catamountoutdoor.org
SUMMARY:2025 Fat Bike Rally
DESCRIPTION:In partnership with the Richard Tom Foundation (RTF)\, we are thrilled to announce the 5th Annual Fat Bike Rally at the Catamount OFC!\nJoin us in exploring the fat bike trails throughout the Catamount Community Forest for free on February 9th\, 2025. Grab your fat bike\, or one of the free demo bikes provided at the event\, and join in on the fun as we celebrate winter biking together! \nBack in 2020\, The RTF provided matching funds to individual donors to help raise the money needed to purchase the SnowDog groomer that Catamount OFC uses on our fat bike network! COFC and RTF have rallied each year since then to offer this space for folks to come together and enjoy this winter sport. \nSchedule for the day: \n\n9am: 30 minute demo bike windows kick off\n9am: 60 min Group Ride with Catamount OFC ED and staff\n11:00am: 6o min Group Ride with RTF Team\n12pm: Food provided by RTF – donation required.\n1pm: 60 min Group Ride with Catamount OFC BOD and staff\n\nWho will be there? COFC Staff and Board\, RTF Team \, Vermont Mountain Bike Association (VMBA)\, Little Bellas\, Bicycle Express\, SDR Clothing Company and more! \nThis years event has a limited number of fat bike demos available supported by Catamount OFC and Bicycle Express. We have limited our fleets to 30 minute demos so more folks in the community are able to enjoy them at this event.  Although the demos are complementary\, a credit card is required to be held on file for Catamounts fleet s in case of damages. \nPriority will be given to those who have preregistered for a group ride or demo time. \nBurgers & Brats will be provided by the Richard Tom Foundation starting around lunch time. \nAdvanced registration to this free event is asked for to help us plan for attendance and manage demos. Please use the form below to let us know your coming\, and sign up for free group ride time slot. Online reservations for demos have closed. Come see us on event day!
URL:https://catamountoutdoor.org/events/2024-fat-bike-rally-2/
LOCATION:Catamount Outdoor Family Center\, 592 Governor Chittenden Road\, Williston\, VT\, United States
CATEGORIES:bike,Family Event
ATTACH;FMTTYPE=image/jpeg:https://catamountoutdoor.org/wp-content/uploads/2024/12/9FE04092-50D1-40EE-AE27-80AC657BAF00_1_105_c.jpeg
ORGANIZER;CN="Catamount Outdoor Family Center":MAILTO:thehub@catamountoutdoor.org
END:VEVENT
BEGIN:VEVENT
DTSTART;TZID=America/New_York:20250214T190000
DTEND;TZID=America/New_York:20250214T203000
DTSTAMP:20260425T072756
CREATED:20241021T192307Z
LAST-MODIFIED:20250211T162621Z
UID:10000789-1739559600-1739565000@catamountoutdoor.org
SUMMARY:Tour De Moon Catamount Adventure
DESCRIPTION:Join us for a magical evening Touring De Moon this Valentines Day! Experience the enchantment of the Catamount Community Forest under the stars. This family-friendly guided outing is the perfect opportunity to get outside\, connect with your community\, and discover the wonders of your local forest and trails. \nDon't miss out on this unforgettable night of making winter memories together! \nDate: February 14th\, 2025 \nActivity: We're XC Skiing on 2/14/25!\nTime: 7:00PM- 8:30PM\nWhat to Bring:Headlamp\, water\, personal equipment\, warm layers\, hand warmers\, snacks as needed.\nCost: $25/person (rentals are not included but are available on site starting at 6:45pm)\nPace:InterMellow\nRegistration: Below\nQuestions: Email programs@catamountoutdoor \nNotes: \n\nLimited spots available\, so register early!\nPlease arrive 15 minutes early for check-in.\nYouth under 12 need an adult to register with them.\n\nWe look forward to seeing you on the trails! \nFuture Tour De Moon options: March 13th
URL:https://catamountoutdoor.org/events/tour-de-moon-catamount-adventure-2/
LOCATION:Catamount Outdoor Family Center\, 592 Governor Chittenden Road\, Williston\, VT\, United States
ATTACH;FMTTYPE=image/png:https://catamountoutdoor.org/wp-content/uploads/2024/10/Tour-De-Moon-2.png
ORGANIZER;CN="Catamount Outdoor Family Center":MAILTO:thehub@catamountoutdoor.org
END:VEVENT
BEGIN:VEVENT
DTSTART;TZID=America/New_York:20250216T130000
DTEND;TZID=America/New_York:20250216T150000
DTSTAMP:20260425T072756
CREATED:20241202T182809Z
LAST-MODIFIED:20241202T182830Z
UID:10000896-1739710800-1739718000@catamountoutdoor.org
SUMMARY:Pride Ski at Catamount Outdoor Family Center
DESCRIPTION:Join Audubon Vermont\, Vermont Land Trust\, Catamount Trails Association\, and Pride Center of Vermont for a fun and inclusive day of cross-country skiing at the Catamount Outdoor Family Center! We will ski for about an hour and a half around the 35 kilometers of groomed trails the center has to offer. The terrain is varied with both flat and hilly trails and includes both wooded and open sections that offer beautiful views and scenic vistas. We will stick together as a group on beginner trails\, but participants are welcome to challenge by choice if they want more advanced routes. This event was designed with the LGBTQIA+ community and allies in mind. \n\n\n\n\nWhile this is not a ski lesson\, we welcome skiers of all levels! We will have a short review at the beginning of the event of skiing tips\, then explore scenic trails at our own pace. Take in the winter beauty\, engage in meaningful conversations\, and enjoy the company of new friends in a supportive and open atmosphere! \nRegistration is required. Please indicate in the registration if you will need to borrow a complimentary pair of skis (covered by Audubon Vermont and Vermont Land Trust) or if you will bring your own. Have an extra pair of skis that you don’t mind lending out? Please bring them! \nThe Catamount Outdoor Family Center requires all trail users to complete a Participant Waiver. Please complete this form AFTER registering for the event. \nCatamount also has trail mantras to keep in mind before use. We will go over these day of as well: \n\nIf you are leaving a foot track\, please turn back.\nIf the ground is fully white\, wearing snowshoes is right.\nSki wherever your heart desires\, single track is best for snowshoes and tires.\nSki tracks are set to glide\, make sure to snowshoe and ride to the side.\n\nWhat to wear and bring:  \n\nWarm layers that you can take on and off. Even if it is a cold day\, xc skiing can get your heart rate up and warm your body. It’s always nice to be able to peel back some layers as needed.\nGloves\nTall\, wool socks\nWater\nTrail snacks\nSunglasses if forecast calls for sun. Snow is very reflective!\nSunscreen\n\nNo dogs. If under 18\, please come accompanied by an adult. \nNote: This event is capped so that we can respect the trails. If registration is sold out\, we are at capacity. Thanks for your understanding. \nIn the event of there being no snow\, we will walk the trails.
URL:https://catamountoutdoor.org/events/pride-ski-at-catamount-outdoor-family-center/
LOCATION:Catamount Outdoor Family Center\, 592 Governor Chittenden Road\, Williston\, VT\, United States
ATTACH;FMTTYPE=image/jpeg:https://catamountoutdoor.org/wp-content/uploads/2024/12/DA45B313-AA4C-4F88-97D3-0408E31490E9.jpeg
END:VEVENT
END:VCALENDAR