BEGIN:VCALENDAR
VERSION:2.0
PRODID:-//Catamount Outdoor Family Center - ECPv6.15.20//NONSGML v1.0//EN
CALSCALE:GREGORIAN
METHOD:PUBLISH
X-WR-CALNAME:Catamount Outdoor Family Center
X-ORIGINAL-URL:https://catamountoutdoor.org
X-WR-CALDESC:Events for Catamount Outdoor Family Center
REFRESH-INTERVAL;VALUE=DURATION:PT1H
X-Robots-Tag:noindex
X-PUBLISHED-TTL:PT1H
BEGIN:VTIMEZONE
TZID:America/New_York
BEGIN:DAYLIGHT
TZOFFSETFROM:-0500
TZOFFSETTO:-0400
TZNAME:EDT
DTSTART:20240310T070000
END:DAYLIGHT
BEGIN:STANDARD
TZOFFSETFROM:-0400
TZOFFSETTO:-0500
TZNAME:EST
DTSTART:20241103T060000
END:STANDARD
BEGIN:DAYLIGHT
TZOFFSETFROM:-0500
TZOFFSETTO:-0400
TZNAME:EDT
DTSTART:20250309T070000
END:DAYLIGHT
BEGIN:STANDARD
TZOFFSETFROM:-0400
TZOFFSETTO:-0500
TZNAME:EST
DTSTART:20251102T060000
END:STANDARD
BEGIN:DAYLIGHT
TZOFFSETFROM:-0500
TZOFFSETTO:-0400
TZNAME:EDT
DTSTART:20260308T070000
END:DAYLIGHT
BEGIN:STANDARD
TZOFFSETFROM:-0400
TZOFFSETTO:-0500
TZNAME:EST
DTSTART:20261101T060000
END:STANDARD
END:VTIMEZONE
BEGIN:VEVENT
DTSTART;TZID=America/New_York:20250104T100000
DTEND;TZID=America/New_York:20250104T120000
DTSTAMP:20260425T083553
CREATED:20241021T183832Z
LAST-MODIFIED:20250102T145052Z
UID:10000784-1735984800-1735992000@catamountoutdoor.org
SUMMARY:Beginner XC Ski Clinic
DESCRIPTION:Join us for a fun and informative beginner XC Ski Clinic. \nWhether you're new to cross-country skiing or looking to refine your skills\, this clinic is perfect for kick starting the season. Our experienced instructors will guide you through the basics of technique\, equipment\, and safety while you enjoy the beautiful winter landscape at Catamount OFC. \nRegistration Full! \nDate: January 4th\, 2025 \nTime: 10:00AM to 12:00PM\nCost: $75/person (Includes Day Membership and Rentals)\nWhat to Bring:\n-Warm layers of clothing for colder activities\n-Hat & gloves\n-Water bottle\n-Snack (optional) \nNotes: Limited spots available\, so register early! Please arrive 15 minutes early for check-in. Youth under 12 need an adult to register with them.\nQuestions: Email programs@catamountoutdoor \nFuture XC Clinic options:\nJanuary 18th\nFebruary 1st\nFebruary 15th
URL:https://catamountoutdoor.org/events/beginner-xc-ski-clinic/
LOCATION:Catamount Outdoor Family Center\, 592 Governor Chittenden Road\, Williston\, VT\, United States
ATTACH;FMTTYPE=image/jpeg:https://catamountoutdoor.org/wp-content/uploads/2024/10/928811BD-9C41-4A44-94E4-48A7B076C32D.jpeg
ORGANIZER;CN="Catamount Outdoor Family Center":MAILTO:thehub@catamountoutdoor.org
END:VEVENT
BEGIN:VEVENT
DTSTART;TZID=America/New_York:20250111T173000
DTEND;TZID=America/New_York:20250111T190000
DTSTAMP:20260425T083553
CREATED:20241021T190402Z
LAST-MODIFIED:20250109T190107Z
UID:10000788-1736616600-1736622000@catamountoutdoor.org
SUMMARY:Tour De Moon Catamount Adventure
DESCRIPTION:Join us for a magical evening Touring De Moon! Experience the enchantment of the Catamount Community Forest under the stars. This family-friendly guided outing is the perfect opportunity to get outside\, connect with your community\, and discover the wonders of your local forest and trails. \nAs we get closer to the event\, we'll reveal the exciting activities planned—whether it's gliding on XC skis\, cruising on fat bikes\, or exploring the snowy landscape on snowshoes\, there's something for everyone! 1/9/25 Update: We're XC Skiing! \nDon't miss out on this unforgettable night of making winter memories together! \nDate: January 11th\, 2025 \nTime: 5:30PM to 7:00PM\nWhat to Bring: Warm layered clothing for colder activities\, Hat & gloves\, Water bottle\, Snack (optional)\nCost: $25.person (rentals not included)\nPace:InterMellow\nRegistration: Below\nQuestions: Email programs@catamountoutdoor.org \nNotes: \n\nLimited spots available\, so register early!\nPlease arrive 15 minutes early for check-in.\nYouth under 12 need an adult to register with them.\n\nWe look forward to seeing you on the trails! \nFuture Tour De Moon options: February 14th and March 13th
URL:https://catamountoutdoor.org/events/tour-de-moon-catamount-adventure/
LOCATION:Catamount Outdoor Family Center\, 592 Governor Chittenden Road\, Williston\, VT\, United States
ATTACH;FMTTYPE=image/jpeg:https://catamountoutdoor.org/wp-content/uploads/2024/10/33DD3188-C34E-4E4D-913F-AABFFE1C9F2D_1_105_c.jpeg
ORGANIZER;CN="Catamount Outdoor Family Center":MAILTO:thehub@catamountoutdoor.org
END:VEVENT
BEGIN:VEVENT
DTSTART;TZID=America/New_York:20250118T100000
DTEND;TZID=America/New_York:20250118T120000
DTSTAMP:20260425T083553
CREATED:20241021T184345Z
LAST-MODIFIED:20250103T180609Z
UID:10000785-1737194400-1737201600@catamountoutdoor.org
SUMMARY:Beginner XC Ski Clinic
DESCRIPTION:Join us for a fun and informative beginner XC Ski Clinic. \nWhether you're new to cross-country skiing or looking to refine your skills\, this clinic is perfect for kick starting the season. Our experienced instructors will guide you through the basics of technique\, equipment\, and safety while you enjoy the beautiful winter landscape at Catamount OFC. \nRegistration Full! \nDate: January 18th\, 2025 \nTime: 10:00AM to 12:00PM\nCost: $75/person (Includes Day Membership and Rentals)\nWhat to Bring:\n-Warm layers of clothing for colder activities\n-Hat & gloves\n-Water bottle\n-Snack (optional) \nNotes: Limited spots available\, so register early! Please arrive 15 minutes early for check-in. Youth under 12 need an adult to register with them.\nQuestions: Email programs@catamountoutdoor \nFuture XC Clinic options:\nFebruary 1st\nFebruary 15th
URL:https://catamountoutdoor.org/events/beginner-xc-ski-clinic-2/
LOCATION:Catamount Outdoor Family Center\, 592 Governor Chittenden Road\, Williston\, VT\, United States
ATTACH;FMTTYPE=image/jpeg:https://catamountoutdoor.org/wp-content/uploads/2024/10/928811BD-9C41-4A44-94E4-48A7B076C32D.jpeg
ORGANIZER;CN="Catamount Outdoor Family Center":MAILTO:thehub@catamountoutdoor.org
END:VEVENT
END:VCALENDAR