BEGIN:VCALENDAR
VERSION:2.0
PRODID:-//Catamount Outdoor Family Center - ECPv6.15.20//NONSGML v1.0//EN
CALSCALE:GREGORIAN
METHOD:PUBLISH
X-ORIGINAL-URL:https://catamountoutdoor.org
X-WR-CALDESC:Events for Catamount Outdoor Family Center
REFRESH-INTERVAL;VALUE=DURATION:PT1H
X-Robots-Tag:noindex
X-PUBLISHED-TTL:PT1H
BEGIN:VTIMEZONE
TZID:America/New_York
BEGIN:DAYLIGHT
TZOFFSETFROM:-0500
TZOFFSETTO:-0400
TZNAME:EDT
DTSTART:20220313T070000
END:DAYLIGHT
BEGIN:STANDARD
TZOFFSETFROM:-0400
TZOFFSETTO:-0500
TZNAME:EST
DTSTART:20221106T060000
END:STANDARD
BEGIN:DAYLIGHT
TZOFFSETFROM:-0500
TZOFFSETTO:-0400
TZNAME:EDT
DTSTART:20230312T070000
END:DAYLIGHT
BEGIN:STANDARD
TZOFFSETFROM:-0400
TZOFFSETTO:-0500
TZNAME:EST
DTSTART:20231105T060000
END:STANDARD
BEGIN:DAYLIGHT
TZOFFSETFROM:-0500
TZOFFSETTO:-0400
TZNAME:EDT
DTSTART:20240310T070000
END:DAYLIGHT
BEGIN:STANDARD
TZOFFSETFROM:-0400
TZOFFSETTO:-0500
TZNAME:EST
DTSTART:20241103T060000
END:STANDARD
END:VTIMEZONE
BEGIN:VEVENT
DTSTART;TZID=America/New_York:20230924T080000
DTEND;TZID=America/New_York:20230924T100000
DTSTAMP:20260424T031252
CREATED:20230913T190115Z
LAST-MODIFIED:20230913T190115Z
UID:10000347-1695542400-1695549600@catamountoutdoor.org
SUMMARY:Feminist Bird Club Outing
DESCRIPTION:Feminist Bird Club of Northern Vermont will be holding its fall outing on Sunday September 24th at 8am. Our outings welcome participants of all skill and experience levels who are interested in a casual morning of birding with like-minded folks.\n\nRegistration is required and can be found\, along with a more detailed write-up including a Birdability review\, via our Instagram page @fbc.nvt\n\nDonations are appreciated and will got to Catamount Outdoor Family Center and Outright VT.\n\nIf you do not have an Instagram account\, please email us at northernvermontfbc@gmail.com\nCheers and good birding!
URL:https://catamountoutdoor.org/events/feminist-bird-club-outing/
LOCATION:Catamount Outdoor Family Center\, 592 Governor Chittenden Road\, Williston\, VT\, United States
CATEGORIES:Birding
ATTACH;FMTTYPE=image/png:https://catamountoutdoor.org/wp-content/uploads/2023/09/Copy-of-LG-FBC-NVT-Logo-1.png
ORGANIZER;CN="Feminist Bird Club":MAILTO:northernvermontfbc@gmail.com
END:VEVENT
END:VCALENDAR